Workbook

Sheet Child Care Spaces per 100 child
A1: BC Child Care Spaces and Child Populations 2018, 2020, 2026
A2: SD number | B2: District | C2: Also known as | D2: Year | E2: Listed in CCOF | F2: Facilities | G2: Under-3 spaces receiving CCOF/CCFRI funding | H2: 30mo-SA spaces receiving CCOF/CCFRI funding | I2: Preschool spaces receiving CCOF/CCFRI funding | J2: School-age spaces receiving CCOF/CCFRI funding | K2: Multi-age spaces receiving CCOF/CCFRI funding | L2: Family spaces receiving CCOF/CCFRI funding | M2: Total spaces in the district, all care types, receiving CCOF / CCFRI | N2: Child Population 0-2 | O2: Child Population 3-4 | P2: Child Population 5-12 | Q2: Child Population 0-12 | R2: Spaces per 100 children (Group 0 - 36 months) | S2: Spaces per 100 children, under 3 (Group under 36 months, PLUS 2 per family child care facility, PLUS 3 per multi-age licence) | T2: Spaces per 100 children, ages 3-4 (Group 30 months to school age PLUS preschool) | U2: Spaces per 100 children, ages 3-4 (Group 30 months to school age only, EXCLUDES preschool) | V2: Spaces per 100 children, ages 3-4 (Group 30 months to school age + preschool, PLUS 5 per family child care facility, PLUS 5 per multi-age licence) | W2: Spaces per 100 children (School aged care) | X2: Spaces per 100 children, ages 0-12 (Family child care AND group multi-age combined) | Y2: All spaces per 100 children (aged 0-12) | Z2: Spaces per 100 children, ages 0-5 (Family child care spaces only) | AA2: Spaces per 100 children, ages 3-4 (Group 30 months to school age PLUS preschool) - repeat of column T | AB2: Family child care LICENSES (CCOF count) | AC2: Multi-age LICENSES | AD2: Child Population 0-5 (ages 0,1,2,3,4 and 5)
A3: BC | B3: BRITISH COLUMBIA | D3: 2018 | E3: yes | F3: 4633 | G3: 12250 | H3: 32597 | I3: 18641 | J3: 34645 | K3: 3151 | L3: 11454 | M3: 112738 | N3: 136844 | O3: 94352 | P3: 390931 | Q3: 622127 | R3: 9 | S3: =IF(N3=0,"",ROUND(100*(G3+'Assumptions'!$B$3*AB3+'Assumptions'!$B$4*AC3)/N3,1)) -> 12.1 | T3: 54.3 | U3: 34.5 | V3: =IF(O3=0,"",ROUND(100*(H3+I3+'Assumptions'!$B$5*AB3+'Assumptions'!$B$7*AC3)/O3,1)) -> 64.8 | W3: 8.9 | X3: 2.3 | Y3: 18.1 | Z3: =IF(AD3=0,"",ROUND(100*L3/AD3,1)) -> 4.1 | AA3: 54.3 | AB3: 1593 | AC3: =K3/'Assumptions'!$B$6 -> 393.875 | AD3: 279340
A4: BC | B4: BRITISH COLUMBIA | D4: 2020 | E4: yes | F4: 4999 | G4: 14933 | H4: 37706 | I4: 18111 | J4: 37779 | K4: 3537 | L4: 12672 | M4: 124738 | N4: 133360 | O4: 95807 | P4: 401896 | Q4: 631063 | R4: 11.2 | S4: =IF(N4=0,"",ROUND(100*(G4+'Assumptions'!$B$3*AB4+'Assumptions'!$B$4*AC4)/N4,1)) -> 14.8 | T4: 58.3 | U4: 39.4 | V4: =IF(O4=0,"",ROUND(100*(H4+I4+'Assumptions'!$B$5*AB4+'Assumptions'!$B$7*AC4)/O4,1)) -> 69.7 | W4: 9.4 | X4: 2.6 | Y4: 19.8 | Z4: =IF(AD4=0,"",ROUND(100*L4/AD4,1)) -> 4.6 | AA4: 58.3 | AB4: 1752 | AC4: =K4/'Assumptions'!$B$6 -> 442.125 | AD4: 278038
A5: BC | B5: BRITISH COLUMBIA | D5: 2026 | E5: yes | F5: 6391 | G5: 29733 | H5: 63426 | I5: 14534 | J5: 54433 | K5: 4877 | L5: 14054 | M5: 181057 | N5: 129907 | O5: 85332 | P5: 407016 | Q5: 622255 | R5: 22.9 | S5: =IF(N5=0,"",ROUND(100*(G5+'Assumptions'!$B$3*AB5+'Assumptions'!$B$4*AC5)/N5,1)) -> 27.2 | T5: 91.4 | U5: 74.3 | V5: =IF(O5=0,"",ROUND(100*(H5+I5+'Assumptions'!$B$5*AB5+'Assumptions'!$B$7*AC5)/O5,1)) -> 106 | W5: 13.4 | X5: 3 | Y5: 29.1 | Z5: =IF(AD5=0,"",ROUND(100*L5/AD5,1)) -> 5.4 | AA5: 91.4 | AB5: 1894 | AC5: =K5/'Assumptions'!$B$6 -> 609.625 | AD5: 259996
A6: 5 | B6: Southeast Kootenay | D6: 2018 | E6: yes | F6: 29 | G6: 64 | H6: 178 | I6: 96 | J6: 145 | K6: 48 | L6: 58 | M6: 589 | N6: 1285 | O6: 994 | P6: 3938 | Q6: 6217 | R6: 5 | S6: =IF(N6=0,"",ROUND(100*(G6+'Assumptions'!$B$3*AB6+'Assumptions'!$B$4*AC6)/N6,1)) -> 7.6 | T6: 27.6 | U6: 17.9 | V6: =IF(O6=0,"",ROUND(100*(H6+I6+'Assumptions'!$B$5*AB6+'Assumptions'!$B$7*AC6)/O6,1)) -> 34.6 | W6: 3.7 | X6: 1.7 | Y6: 9.5 | Z6: =IF(AD6=0,"",ROUND(100*L6/AD6,1)) -> 2.1 | AA6: 27.6 | AB6: 8 | AC6: =K6/'Assumptions'!$B$6 -> 6 | AD6: 2744
A7: 5 | B7: Southeast Kootenay | D7: 2020 | E7: yes | F7: 35 | G7: 64 | H7: 214 | I7: 116 | J7: 165 | K7: 64 | L7: 74 | M7: 697 | N7: 1194 | O7: 966 | P7: 4121 | Q7: 6281 | R7: 5.4 | S7: =IF(N7=0,"",ROUND(100*(G7+'Assumptions'!$B$3*AB7+'Assumptions'!$B$4*AC7)/N7,1)) -> 9 | T7: 34.2 | U7: 22.2 | V7: =IF(O7=0,"",ROUND(100*(H7+I7+'Assumptions'!$B$5*AB7+'Assumptions'!$B$7*AC7)/O7,1)) -> 43.5 | W7: 4 | X7: 2.2 | Y7: 11.1 | Z7: =IF(AD7=0,"",ROUND(100*L7/AD7,1)) -> 2.8 | AA7: 34.2 | AB7: 10 | AC7: =K7/'Assumptions'!$B$6 -> 8 | AD7: 2681
A8: 5 | B8: Southeast Kootenay | D8: 2026 | E8: yes | F8: 43 | G8: 106 | H8: 374 | I8: 124 | J8: 372 | K8: 69 | L8: 65 | M8: 1110 | N8: 1128 | O8: 745 | P8: 3926 | Q8: 5799 | R8: 9.4 | S8: =IF(N8=0,"",ROUND(100*(G8+'Assumptions'!$B$3*AB8+'Assumptions'!$B$4*AC8)/N8,1)) -> 13.3 | T8: 66.8 | U8: 50.2 | V8: =IF(O8=0,"",ROUND(100*(H8+I8+'Assumptions'!$B$5*AB8+'Assumptions'!$B$7*AC8)/O8,1)) -> 78.7 | W8: 9.5 | X8: 2.3 | Y8: 19.1 | Z8: =IF(AD8=0,"",ROUND(100*L8/AD8,1)) -> 2.9 | AA8: 66.8 | AB8: 9 | AC8: =K8/'Assumptions'!$B$6 -> 8.625 | AD8: 2278
A9: 6 | B9: Rocky Mountain | D9: 2018 | E9: yes | F9: 20 | G9: 44 | H9: 90 | I9: 100 | J9: 73 | K9: 32 | L9: 79 | M9: 418 | N9: 754 | O9: 549 | P9: 2104 | Q9: 3407 | R9: 5.8 | S9: =IF(N9=0,"",ROUND(100*(G9+'Assumptions'!$B$3*AB9+'Assumptions'!$B$4*AC9)/N9,1)) -> 10.3 | T9: 34.6 | U9: 16.4 | V9: =IF(O9=0,"",ROUND(100*(H9+I9+'Assumptions'!$B$5*AB9+'Assumptions'!$B$7*AC9)/O9,1)) -> 48.3 | W9: 3.5 | X9: 3.3 | Y9: 12.3 | Z9: =IF(AD9=0,"",ROUND(100*L9/AD9,1)) -> 5.1 | AA9: 34.6 | AB9: 11 | AC9: =K9/'Assumptions'!$B$6 -> 4 | AD9: 1551
A10: 6 | B10: Rocky Mountain | D10: 2020 | E10: yes | F10: 22 | G10: 56 | H10: 185 | I10: 80 | J10: 131 | K10: 32 | L10: 87 | M10: 571 | N10: 746 | O10: 535 | P10: 2286 | Q10: 3567 | R10: 7.5 | S10: =IF(N10=0,"",ROUND(100*(G10+'Assumptions'!$B$3*AB10+'Assumptions'!$B$4*AC10)/N10,1)) -> 12.3 | T10: 49.5 | U10: 34.6 | V10: =IF(O10=0,"",ROUND(100*(H10+I10+'Assumptions'!$B$5*AB10+'Assumptions'!$B$7*AC10)/O10,1)) -> 64.5 | W10: 5.7 | X10: 3.3 | Y10: 16 | Z10: =IF(AD10=0,"",ROUND(100*L10/AD10,1)) -> 5.6 | AA10: 49.5 | AB10: 12 | AC10: =K10/'Assumptions'!$B$6 -> 4 | AD10: 1559
A11: 6 | B11: Rocky Mountain | D11: 2026 | E11: yes | F11: 34 | G11: 140 | H11: 529 | I11: 152 | J11: 324 | K11: 40 | L11: 80 | M11: 1265 | N11: 751 | O11: 453 | P11: 2259 | Q11: 3463 | R11: 18.6 | S11: =IF(N11=0,"",ROUND(100*(G11+'Assumptions'!$B$3*AB11+'Assumptions'!$B$4*AC11)/N11,1)) -> 23.6 | T11: 150.3 | U11: 116.8 | V11: =IF(O11=0,"",ROUND(100*(H11+I11+'Assumptions'!$B$5*AB11+'Assumptions'!$B$7*AC11)/O11,1)) -> 168 | W11: 14.3 | X11: 3.5 | Y11: 36.5 | Z11: =IF(AD11=0,"",ROUND(100*L11/AD11,1)) -> 5.6 | AA11: 150.3 | AB11: 11 | AC11: =K11/'Assumptions'!$B$6 -> 5 | AD11: 1440
A12: 8 | B12: Kootenay Lake | D12: 2018 | E12: yes | F12: 32 | G12: 48 | H12: 251 | I12: 57 | J12: 182 | K12: 32 | L12: 76 | M12: 646 | N12: 988 | O12: 759 | P12: 3503 | Q12: 5250 | R12: 4.9 | S12: =IF(N12=0,"",ROUND(100*(G12+'Assumptions'!$B$3*AB12+'Assumptions'!$B$4*AC12)/N12,1)) -> 8.1 | T12: 40.6 | U12: 33.1 | V12: =IF(O12=0,"",ROUND(100*(H12+I12+'Assumptions'!$B$5*AB12+'Assumptions'!$B$7*AC12)/O12,1)) -> 49.8 | W12: 5.2 | X12: 2.1 | Y12: 12.3 | Z12: =IF(AD12=0,"",ROUND(100*L12/AD12,1)) -> 3.6 | AA12: 40.6 | AB12: 10 | AC12: =K12/'Assumptions'!$B$6 -> 4 | AD12: 2139
A13: 8 | B13: Kootenay Lake | D13: 2020 | E13: yes | F13: 39 | G13: 52 | H13: 304 | I13: 76 | J13: 136 | K13: 48 | L13: 105 | M13: 721 | N13: 966 | O13: 754 | P13: 3540 | Q13: 5260 | R13: 5.4 | S13: =IF(N13=0,"",ROUND(100*(G13+'Assumptions'!$B$3*AB13+'Assumptions'!$B$4*AC13)/N13,1)) -> 10.1 | T13: 50.4 | U13: 40.3 | V13: =IF(O13=0,"",ROUND(100*(H13+I13+'Assumptions'!$B$5*AB13+'Assumptions'!$B$7*AC13)/O13,1)) -> 63.7 | W13: 3.8 | X13: 2.9 | Y13: 13.7 | Z13: =IF(AD13=0,"",ROUND(100*L13/AD13,1)) -> 4.9 | AA13: 50.4 | AB13: 14 | AC13: =K13/'Assumptions'!$B$6 -> 6 | AD13: 2135
A14: 8 | B14: Kootenay Lake | D14: 2026 | E14: yes | F14: 43 | G14: 132 | H14: 375 | I14: 90 | J14: 249 | K14: 44 | L14: 87 | M14: 977 | N14: 890 | O14: 604 | P14: 3202 | Q14: 4696 | R14: 14.8 | S14: =IF(N14=0,"",ROUND(100*(G14+'Assumptions'!$B$3*AB14+'Assumptions'!$B$4*AC14)/N14,1)) -> 19.4 | T14: 77 | U14: 62.1 | V14: =IF(O14=0,"",ROUND(100*(H14+I14+'Assumptions'!$B$5*AB14+'Assumptions'!$B$7*AC14)/O14,1)) -> 91.5 | W14: 7.8 | X14: 2.8 | Y14: 20.8 | Z14: =IF(AD14=0,"",ROUND(100*L14/AD14,1)) -> 4.8 | AA14: 77 | AB14: 12 | AC14: =K14/'Assumptions'!$B$6 -> 5.5 | AD14: 1820
A15: 10 | B15: Arrow Lakes | D15: 2018 | E15: yes | F15: 2 | G15: 0 | H15: 16 | I15: 12 | J15: 0 | K15: 0 | L15: 0 | M15: 28 | N15: 82 | O15: 67 | P15: 264 | Q15: 413 | R15: 0 | S15: =IF(N15=0,"",ROUND(100*(G15+'Assumptions'!$B$3*AB15+'Assumptions'!$B$4*AC15)/N15,1)) -> 0 | T15: 41.8 | U15: 23.9 | V15: =IF(O15=0,"",ROUND(100*(H15+I15+'Assumptions'!$B$5*AB15+'Assumptions'!$B$7*AC15)/O15,1)) -> 41.8 | W15: 0 | X15: 0 | Y15: 6.8 | Z15: =IF(AD15=0,"",ROUND(100*L15/AD15,1)) -> 0 | AA15: 41.8 | AB15: 0 | AC15: =K15/'Assumptions'!$B$6 -> 0 | AD15: 178
A16: 10 | B16: Arrow Lakes | D16: 2020 | E16: yes | F16: 3 | G16: 0 | H16: 16 | I16: 12 | J16: 0 | K16: 0 | L16: 7 | M16: 35 | N16: 72 | O16: 68 | P16: 285 | Q16: 425 | R16: 0 | S16: =IF(N16=0,"",ROUND(100*(G16+'Assumptions'!$B$3*AB16+'Assumptions'!$B$4*AC16)/N16,1)) -> 2.8 | T16: 41.2 | U16: 23.5 | V16: =IF(O16=0,"",ROUND(100*(H16+I16+'Assumptions'!$B$5*AB16+'Assumptions'!$B$7*AC16)/O16,1)) -> 48.5 | W16: 0 | X16: 1.6 | Y16: 8.2 | Z16: =IF(AD16=0,"",ROUND(100*L16/AD16,1)) -> 3.8 | AA16: 41.2 | AB16: 1 | AC16: =K16/'Assumptions'!$B$6 -> 0 | AD16: 182
A17: 10 | B17: Arrow Lakes | D17: 2026 | E17: yes | F17: 6 | G17: 8 | H17: 16 | I17: 14 | J17: 48 | K17: 40 | L17: 15 | M17: 141 | N17: 71 | O17: 65 | P17: 305 | Q17: 441 | R17: 11.3 | S17: =IF(N17=0,"",ROUND(100*(G17+'Assumptions'!$B$3*AB17+'Assumptions'!$B$4*AC17)/N17,1)) -> 38 | T17: 46.2 | U17: 24.6 | V17: =IF(O17=0,"",ROUND(100*(H17+I17+'Assumptions'!$B$5*AB17+'Assumptions'!$B$7*AC17)/O17,1)) -> 100 | W17: 15.7 | X17: 12.5 | Y17: 32 | Z17: =IF(AD17=0,"",ROUND(100*L17/AD17,1)) -> 9 | AA17: 46.2 | AB17: 2 | AC17: =K17/'Assumptions'!$B$6 -> 5 | AD17: 167
... A29: 23 | B29: Central Okanagan | D29: 2026 | E29: yes | F29: 248 | G29: 1382 | H29: 2808 | I29: 811 | J29: 2474 | K29: 505 | L29: 548 | M29: 8528 | N29: 5480 | O29: 3722 | P29: 17706 | Q29: 26908 | R29: 25.2 | S29: =IF(N29=0,"",ROUND(100*(G29+'Assumptions'!$B$3*AB29+'Assumptions'!$B$4*AC29)/N29,1)) -> 31.4 | T29: 97.2 | U29: 75.4 | V29: =IF(O29=0,"",ROUND(100*(H29+I29+'Assumptions'!$B$5*AB29+'Assumptions'!$B$7*AC29)/O29,1)) -> 115.7 | W29: 14 | X29: 3.9 | Y29: 31.7 | Z29: =IF(AD29=0,"",ROUND(100*L29/AD29,1)) -> 4.9 | AA29: 97.2 | AB29: 74 | AC29: =K29/'Assumptions'!$B$6 -> 63.125 | AD29: 11139
A30: 27 | B30: Cariboo-Chilcotin | C30: Cariboo - Chilcotin | D30: 2018 | E30: yes | F30: 33 | G30: 60 | H30: 179 | I30: 109 | J30: 276 | K30: 72 | L30: 85 | M30: 781 | N30: 1109 | O30: 780 | P30: 3337 | Q30: 5226 | R30: 5.4 | S30: =IF(N30=0,"",ROUND(100*(G30+'Assumptions'!$B$3*AB30+'Assumptions'!$B$4*AC30)/N30,1)) -> 10 | T30: 36.9 | U30: 22.9 | V30: =IF(O30=0,"",ROUND(100*(H30+I30+'Assumptions'!$B$5*AB30+'Assumptions'!$B$7*AC30)/O30,1)) -> 50.4 | W30: 8.3 | X30: 3 | Y30: 14.9 | Z30: =IF(AD30=0,"",ROUND(100*L30/AD30,1)) -> 3.7 | AA30: 36.9 | AB30: 12 | AC30: =K30/'Assumptions'!$B$6 -> 9 | AD30: 2294
A31: 27 | B31: Cariboo-Chilcotin | C31: Cariboo - Chilcotin | D31: 2020 | E31: yes | F31: 37 | G31: 76 | H31: 174 | I31: 95 | J31: 276 | K31: 72 | L31: 114 | M31: 807 | N31: 1103 | O31: 775 | P31: 3398 | Q31: 5276 | R31: 6.9 | S31: =IF(N31=0,"",ROUND(100*(G31+'Assumptions'!$B$3*AB31+'Assumptions'!$B$4*AC31)/N31,1)) -> 12.2 | T31: 34.7 | U31: 22.5 | V31: =IF(O31=0,"",ROUND(100*(H31+I31+'Assumptions'!$B$5*AB31+'Assumptions'!$B$7*AC31)/O31,1)) -> 50.8 | W31: 8.1 | X31: 3.5 | Y31: 15.3 | Z31: =IF(AD31=0,"",ROUND(100*L31/AD31,1)) -> 5 | AA31: 34.7 | AB31: 16 | AC31: =K31/'Assumptions'!$B$6 -> 9 | AD31: 2278
A32: 27 | B32: Cariboo-Chilcotin | C32: Cariboo - Chilcotin | D32: 2026 | E32: yes | F32: 43 | G32: 108 | H32: 260 | I32: 129 | J32: 455 | K32: 90 | L32: 100 | M32: 1142 | N32: 876 | O32: 652 | P32: 3148 | Q32: 4676 | R32: 12.3 | S32: =IF(N32=0,"",ROUND(100*(G32+'Assumptions'!$B$3*AB32+'Assumptions'!$B$4*AC32)/N32,1)) -> 19.4 | T32: 59.7 | U32: 39.9 | V32: =IF(O32=0,"",ROUND(100*(H32+I32+'Assumptions'!$B$5*AB32+'Assumptions'!$B$7*AC32)/O32,1)) -> 79 | W32: 14.5 | X32: 4.1 | Y32: 24.4 | Z32: =IF(AD32=0,"",ROUND(100*L32/AD32,1)) -> 5.3 | AA32: 59.7 | AB32: 14 | AC32: =K32/'Assumptions'!$B$6 -> 11.25 | AD32: 1875
A33: 28 | B33: Quesnel | D33: 2018 | E33: yes | F33: 22 | G33: 24 | H33: 93 | I33: 63 | J33: 160 | K33: 64 | L33: 70 | M33: 474 | N33: 713 | O33: 477 | P33: 2168 | Q33: 3358 | R33: 3.4 | S33: =IF(N33=0,"",ROUND(100*(G33+'Assumptions'!$B$3*AB33+'Assumptions'!$B$4*AC33)/N33,1)) -> 9.5 | T33: 32.7 | U33: 19.5 | V33: =IF(O33=0,"",ROUND(100*(H33+I33+'Assumptions'!$B$5*AB33+'Assumptions'!$B$7*AC33)/O33,1)) -> 51.6 | W33: 7.4 | X33: 4 | Y33: 14.1 | Z33: =IF(AD33=0,"",ROUND(100*L33/AD33,1)) -> 4.9 | AA33: 32.7 | AB33: 10 | AC33: =K33/'Assumptions'!$B$6 -> 8 | AD33: 1432
A34: 28 | B34: Quesnel | D34: 2020 | E34: yes | F34: 26 | G34: 36 | H34: 93 | I34: 66 | J34: 81 | K34: 48 | L34: 99 | M34: 423 | N34: 656 | O34: 478 | P34: 2146 | Q34: 3280 | R34: 5.5 | S34: =IF(N34=0,"",ROUND(100*(G34+'Assumptions'!$B$3*AB34+'Assumptions'!$B$4*AC34)/N34,1)) -> 12.5 | T34: 33.3 | U34: 19.5 | V34: =IF(O34=0,"",ROUND(100*(H34+I34+'Assumptions'!$B$5*AB34+'Assumptions'!$B$7*AC34)/O34,1)) -> 54.2 | W34: 3.8 | X34: 4.5 | Y34: 12.9 | Z34: =IF(AD34=0,"",ROUND(100*L34/AD34,1)) -> 7.2 | AA34: 33.3 | AB34: 14 | AC34: =K34/'Assumptions'!$B$6 -> 6 | AD34: 1372
A35: 28 | B35: Quesnel | D35: 2026 | E35: yes | F35: 24 | G35: 36 | H35: 151 | I35: 36 | J35: 115 | K35: 48 | L35: 94 | M35: 480 | N35: 543 | O35: 354 | P35: 1895 | Q35: 2792 | R35: 6.6 | S35: =IF(N35=0,"",ROUND(100*(G35+'Assumptions'!$B$3*AB35+'Assumptions'!$B$4*AC35)/N35,1)) -> 14.7 | T35: 52.8 | U35: 42.7 | V35: =IF(O35=0,"",ROUND(100*(H35+I35+'Assumptions'!$B$5*AB35+'Assumptions'!$B$7*AC35)/O35,1)) -> 79.7 | W35: 6.1 | X35: 5.1 | Y35: 17.2 | Z35: =IF(AD35=0,"",ROUND(100*L35/AD35,1)) -> 8.7 | AA35: 52.8 | AB35: 13 | AC35: =K35/'Assumptions'!$B$6 -> 6 | AD35: 1079
A36: 33 | B36: Chilliwack | D36: 2018 | E36: yes | F36: 84 | G36: 126 | H36: 401 | I36: 473 | J36: 616 | K36: 40 | L36: 271 | M36: 1927 | N36: 3521 | O36: 2410 | P36: 9983 | Q36: 15914 | R36: 3.6 | S36: =IF(N36=0,"",ROUND(100*(G36+'Assumptions'!$B$3*AB36+'Assumptions'!$B$4*AC36)/N36,1)) -> 6.1 | T36: 36.3 | U36: 16.6 | V36: =IF(O36=0,"",ROUND(100*(H36+I36+'Assumptions'!$B$5*AB36+'Assumptions'!$B$7*AC36)/O36,1)) -> 45 | W36: 6.2 | X36: 2 | Y36: 12.1 | Z36: =IF(AD36=0,"",ROUND(100*L36/AD36,1)) -> 3.8 | AA36: 36.3 | AB36: 37 | AC36: =K36/'Assumptions'!$B$6 -> 5 | AD36: 7155
A37: 33 | B37: Chilliwack | D37: 2020 | E37: yes | F37: 99 | G37: 182 | H37: 526 | I37: 449 | J37: 670 | K37: 71 | L37: 350 | M37: 2248 | N37: 3472 | O37: 2520 | P37: 10432 | Q37: 16424 | R37: 5.2 | S37: =IF(N37=0,"",ROUND(100*(G37+'Assumptions'!$B$3*AB37+'Assumptions'!$B$4*AC37)/N37,1)) -> 8.8 | T37: 38.7 | U37: 20.9 | V37: =IF(O37=0,"",ROUND(100*(H37+I37+'Assumptions'!$B$5*AB37+'Assumptions'!$B$7*AC37)/O37,1)) -> 50 | W37: 6.4 | X37: 2.6 | Y37: 13.7 | Z37: =IF(AD37=0,"",ROUND(100*L37/AD37,1)) -> 4.8 | AA37: 38.7 | AB37: 48 | AC37: =K37/'Assumptions'!$B$6 -> 8.875 | AD37: 7243
A38: 33 | B38: Chilliwack | D38: 2026 | E38: yes | F38: 191 | G38: 802 | H38: 1402 | I38: 369 | J38: 1280 | K38: 304 | L38: 500 | M38: 4657 | N38: 3529 | O38: 2371 | P38: 11131 | Q38: 17031 | R38: 22.7 | S38: =IF(N38=0,"",ROUND(100*(G38+'Assumptions'!$B$3*AB38+'Assumptions'!$B$4*AC38)/N38,1)) -> 29.8 | T38: 74.7 | U38: 59.1 | V38: =IF(O38=0,"",ROUND(100*(H38+I38+'Assumptions'!$B$5*AB38+'Assumptions'!$B$7*AC38)/O38,1)) -> 96.8 | W38: 11.5 | X38: 4.7 | Y38: 27.3 | Z38: =IF(AD38=0,"",ROUND(100*L38/AD38,1)) -> 7 | AA38: 74.7 | AB38: 67 | AC38: =K38/'Assumptions'!$B$6 -> 38 | AD38: 7163
A39: 34 | B39: Abbotsford | D39: 2018 | E39: yes | F39: 110 | G39: 234 | H39: 578 | I39: 706 | J39: 951 | K39: 80 | L39: 282 | M39: 2831 | N39: 5250 | O39: 3565 | P39: 14869 | Q39: 23684 | R39: 4.5 | S39: =IF(N39=0,"",ROUND(100*(G39+'Assumptions'!$B$3*AB39+'Assumptions'!$B$4*AC39)/N39,1)) -> 6.5 | T39: 36 | U39: 16.2 | V39: =IF(O39=0,"",ROUND(100*(H39+I39+'Assumptions'!$B$5*AB39+'Assumptions'!$B$7*AC39)/O39,1)) -> 42.7 | W39: 6.4 | X39: 1.5 | Y39: 12 | Z39: =IF(AD39=0,"",ROUND(100*L39/AD39,1)) -> 2.7 | AA39: 36 | AB39: 38 | AC39: =K39/'Assumptions'!$B$6 -> 10 | AD39: 10628
A40: 34 | B40: Abbotsford | D40: 2020 | E40: yes | F40: 120 | G40: 375 | H40: 771 | I40: 642 | J40: 1063 | K40: 80 | L40: 314 | M40: 3245 | N40: 5060 | O40: 3632 | P40: 15128 | Q40: 23820 | R40: 7.4 | S40: =IF(N40=0,"",ROUND(100*(G40+'Assumptions'!$B$3*AB40+'Assumptions'!$B$4*AC40)/N40,1)) -> 9.7 | T40: 38.9 | U40: 21.2 | V40: =IF(O40=0,"",ROUND(100*(H40+I40+'Assumptions'!$B$5*AB40+'Assumptions'!$B$7*AC40)/O40,1)) -> 46.1 | W40: 7 | X40: 1.7 | Y40: 13.6 | Z40: =IF(AD40=0,"",ROUND(100*L40/AD40,1)) -> 3 | AA40: 38.9 | AB40: 42 | AC40: =K40/'Assumptions'!$B$6 -> 10 | AD40: 10519
A41: 34 | B41: Abbotsford | D41: 2026 | E41: yes | F41: 188 | G41: 1196 | H41: 2101 | I41: 490 | J41: 1714 | K41: 112 | L41: 587 | M41: 6200 | N41: 5336 | O41: 3341 | P41: 15083 | Q41: 23760 | R41: 22.4 | S41: =IF(N41=0,"",ROUND(100*(G41+'Assumptions'!$B$3*AB41+'Assumptions'!$B$4*AC41)/N41,1)) -> 26 | T41: 77.6 | U41: 62.9 | V41: =IF(O41=0,"",ROUND(100*(H41+I41+'Assumptions'!$B$5*AB41+'Assumptions'!$B$7*AC41)/O41,1)) -> 90.9 | W41: 11.4 | X41: 2.9 | Y41: 26.1 | Z41: =IF(AD41=0,"",ROUND(100*L41/AD41,1)) -> 5.7 | AA41: 77.6 | AB41: 75 | AC41: =K41/'Assumptions'!$B$6 -> 14 | AD41: 10378
A42: 35 | B42: Langley | D42: 2018 | E42: yes | F42: 136 | G42: 720 | H42: 1364 | I42: 857 | J42: 1122 | K42: 37 | L42: 328 | M42: 4428 | N42: 5289 | O42: 3697 | P42: 15043 | Q42: 24029 | R42: 13.6 | S42: =IF(N42=0,"",ROUND(100*(G42+'Assumptions'!$B$3*AB42+'Assumptions'!$B$4*AC42)/N42,1)) -> 15.6 | T42: 60.1 | U42: 36.9 | V42: =IF(O42=0,"",ROUND(100*(H42+I42+'Assumptions'!$B$5*AB42+'Assumptions'!$B$7*AC42)/O42,1)) -> 66.8 | W42: 7.5 | X42: 1.5 | Y42: 18.4 | Z42: =IF(AD42=0,"",ROUND(100*L42/AD42,1)) -> 3 | AA42: 60.1 | AB42: 45 | AC42: =K42/'Assumptions'!$B$6 -> 4.625 | AD42: 10890
A43: 35 | B43: Langley | D43: 2020 | E43: yes | F43: 146 | G43: 868 | H43: 1666 | I43: 784 | J43: 1242 | K43: 45 | L43: 379 | M43: 4984 | N43: 5286 | O43: 3829 | P43: 15673 | Q43: 24788 | R43: 16.4 | S43: =IF(N43=0,"",ROUND(100*(G43+'Assumptions'!$B$3*AB43+'Assumptions'!$B$4*AC43)/N43,1)) -> 18.7 | T43: 64 | U43: 43.5 | V43: =IF(O43=0,"",ROUND(100*(H43+I43+'Assumptions'!$B$5*AB43+'Assumptions'!$B$7*AC43)/O43,1)) -> 71.4 | W43: 7.9 | X43: 1.7 | Y43: 20.1 | Z43: =IF(AD43=0,"",ROUND(100*L43/AD43,1)) -> 3.4 | AA43: 64 | AB43: 51 | AC43: =K43/'Assumptions'!$B$6 -> 5.625 | AD43: 11067
A44: 35 | B44: Langley | D44: 2026 | E44: yes | F44: 238 | G44: 1842 | H44: 3332 | I44: 771 | J44: 2065 | K44: 92 | L44: 504 | M44: 8606 | N44: 5370 | O44: 3772 | P44: 17848 | Q44: 26990 | R44: 34.3 | S44: =IF(N44=0,"",ROUND(100*(G44+'Assumptions'!$B$3*AB44+'Assumptions'!$B$4*AC44)/N44,1)) -> 37.4 | T44: 108.8 | U44: 88.3 | V44: =IF(O44=0,"",ROUND(100*(H44+I44+'Assumptions'!$B$5*AB44+'Assumptions'!$B$7*AC44)/O44,1)) -> 119 | W44: 11.6 | X44: 2.2 | Y44: 31.9 | Z44: =IF(AD44=0,"",ROUND(100*L44/AD44,1)) -> 4.5 | AA44: 108.8 | AB44: 66 | AC44: =K44/'Assumptions'!$B$6 -> 11.5 | AD44: 11120
... A77: 46 | B77: Sunshine Coast | D77: 2026 | E77: yes | F77: 49 | G77: 92 | H77: 380 | I77: 20 | J77: 210 | K77: 8 | L77: 126 | M77: 836 | N77: 634 | O77: 408 | P77: 2070 | Q77: 3112 | R77: 14.5 | S77: =IF(N77=0,"",ROUND(100*(G77+'Assumptions'!$B$3*AB77+'Assumptions'!$B$4*AC77)/N77,1)) -> 20.3 | T77: 98 | U77: 93.1 | V77: =IF(O77=0,"",ROUND(100*(H77+I77+'Assumptions'!$B$5*AB77+'Assumptions'!$B$7*AC77)/O77,1)) -> 120.1 | W77: 10.1 | X77: 4.3 | Y77: 26.9 | Z77: =IF(AD77=0,"",ROUND(100*L77/AD77,1)) -> 10 | AA77: 98 | AB77: 17 | AC77: =K77/'Assumptions'!$B$6 -> 1 | AD77: 1258
A78: 47 | B78: qathet | C78: Powell River | D78: 2018 | E78: yes | F78: 24 | G78: 28 | H78: 76 | I78: 92 | J78: 50 | K78: 31 | L78: 35 | M78: 312 | N78: 474 | O78: 352 | P78: 1455 | Q78: 2281 | R78: 5.9 | S78: =IF(N78=0,"",ROUND(100*(G78+'Assumptions'!$B$3*AB78+'Assumptions'!$B$4*AC78)/N78,1)) -> 10.5 | T78: 47.7 | U78: 21.6 | V78: =IF(O78=0,"",ROUND(100*(H78+I78+'Assumptions'!$B$5*AB78+'Assumptions'!$B$7*AC78)/O78,1)) -> 60.3 | W78: 3.4 | X78: 2.9 | Y78: 13.7 | Z78: =IF(AD78=0,"",ROUND(100*L78/AD78,1)) -> 3.5 | AA78: 47.7 | AB78: 5 | AC78: =K78/'Assumptions'!$B$6 -> 3.875 | AD78: 988
A79: 47 | B79: qathet | C79: Powell River | D79: 2020 | E79: yes | F79: 24 | G79: 16 | H79: 58 | I79: 82 | J79: 50 | K79: 31 | L79: 43 | M79: 280 | N79: 446 | O79: 332 | P79: 1516 | Q79: 2294 | R79: 3.6 | S79: =IF(N79=0,"",ROUND(100*(G79+'Assumptions'!$B$3*AB79+'Assumptions'!$B$4*AC79)/N79,1)) -> 8.9 | T79: 42.2 | U79: 17.5 | V79: =IF(O79=0,"",ROUND(100*(H79+I79+'Assumptions'!$B$5*AB79+'Assumptions'!$B$7*AC79)/O79,1)) -> 57 | W79: 3.3 | X79: 3.2 | Y79: 12.2 | Z79: =IF(AD79=0,"",ROUND(100*L79/AD79,1)) -> 4.5 | AA79: 42.2 | AB79: 6 | AC79: =K79/'Assumptions'!$B$6 -> 3.875 | AD79: 957
A80: 47 | B80: qathet | C80: Powell River | D80: 2026 | E80: yes | F80: 39 | G80: 63 | H80: 96 | I80: 80 | J80: 189 | K80: 55 | L80: 53 | M80: 536 | N80: 403 | O80: 286 | P80: 1411 | Q80: 2100 | R80: 15.6 | S80: =IF(N80=0,"",ROUND(100*(G80+'Assumptions'!$B$3*AB80+'Assumptions'!$B$4*AC80)/N80,1)) -> 24.2 | T80: 61.5 | U80: 33.6 | V80: =IF(O80=0,"",ROUND(100*(H80+I80+'Assumptions'!$B$5*AB80+'Assumptions'!$B$7*AC80)/O80,1)) -> 85.8 | W80: 13.4 | X80: 5.1 | Y80: 25.5 | Z80: =IF(AD80=0,"",ROUND(100*L80/AD80,1)) -> 6.5 | AA80: 61.5 | AB80: 7 | AC80: =K80/'Assumptions'!$B$6 -> 6.875 | AD80: 821
A81: 48 | B81: Sea to Sky | D81: 2018 | E81: yes | F81: 63 | G81: 132 | H81: 410 | I81: 85 | J81: 232 | K81: 16 | L81: 144 | M81: 1019 | N81: 1455 | O81: 1010 | P81: 3918 | Q81: 6383 | R81: 9.1 | S81: =IF(N81=0,"",ROUND(100*(G81+'Assumptions'!$B$3*AB81+'Assumptions'!$B$4*AC81)/N81,1)) -> 12.2 | T81: 49 | U81: 40.6 | V81: =IF(O81=0,"",ROUND(100*(H81+I81+'Assumptions'!$B$5*AB81+'Assumptions'!$B$7*AC81)/O81,1)) -> 59.9 | W81: 5.9 | X81: 2.5 | Y81: 16 | Z81: =IF(AD81=0,"",ROUND(100*L81/AD81,1)) -> 4.8 | AA81: 49 | AB81: 20 | AC81: =K81/'Assumptions'!$B$6 -> 2 | AD81: 2993
A82: 48 | B82: Sea to Sky | D82: 2020 | E82: yes | F82: 71 | G82: 128 | H82: 484 | I82: 89 | J82: 260 | K82: 0 | L82: 182 | M82: 1143 | N82: 1503 | O82: 1017 | P82: 4075 | Q82: 6595 | R82: 8.5 | S82: =IF(N82=0,"",ROUND(100*(G82+'Assumptions'!$B$3*AB82+'Assumptions'!$B$4*AC82)/N82,1)) -> 12 | T82: 56.3 | U82: 47.6 | V82: =IF(O82=0,"",ROUND(100*(H82+I82+'Assumptions'!$B$5*AB82+'Assumptions'!$B$7*AC82)/O82,1)) -> 69.1 | W82: 6.4 | X82: 2.8 | Y82: 17.3 | Z82: =IF(AD82=0,"",ROUND(100*L82/AD82,1)) -> 6 | AA82: 56.3 | AB82: 26 | AC82: =K82/'Assumptions'!$B$6 -> 0 | AD82: 3020
A83: 48 | B83: Sea to Sky | D83: 2026 | E83: yes | F83: 81 | G83: 332 | H83: 818 | I83: 32 | J83: 354 | K83: 0 | L83: 124 | M83: 1660 | N83: 1526 | O83: 861 | P83: 3966 | Q83: 6353 | R83: 21.8 | S83: =IF(N83=0,"",ROUND(100*(G83+'Assumptions'!$B$3*AB83+'Assumptions'!$B$4*AC83)/N83,1)) -> 24.1 | T83: 98.7 | U83: 95 | V83: =IF(O83=0,"",ROUND(100*(H83+I83+'Assumptions'!$B$5*AB83+'Assumptions'!$B$7*AC83)/O83,1)) -> 109.2 | W83: 8.9 | X83: 2 | Y83: 26.1 | Z83: =IF(AD83=0,"",ROUND(100*L83/AD83,1)) -> 4.3 | AA83: 98.7 | AB83: 18 | AC83: =K83/'Assumptions'!$B$6 -> 0 | AD83: 2853
...

Sheet Assumptions
A1: How the mixed-age pools are split across age bands
A3: Family child care spaces assigned to children UNDER 3, per facility | B3: 2
A4: Multi-age spaces assigned to children UNDER 3, per licence | B4: 3
A5: Family child care spaces assigned to children AGED 3-4, per facility | B5: 5
A6: Children per multi-age licence (unless otherwise stated) | B6: 8
A7: Multi-age spaces assigned to children AGED 3-4, per licence | B7: 5
A9: Change any number in column B and columns S, V and Z on Sheet 1 recalculate.
A11: WHY THESE COLUMNS ARE NEEDED
B12: Family child care and group multi-age licences serve the whole 0-12 range under one licence, so the raw data cannot say how many of their spaces hold an infant and how many hold a four-year-old. Columns R, T, U and W therefore count only GROUP care of a named age type, and leave family and multi-age out entirely. That understates coverage in every band. Columns S, V and Z put the mixed-age capacity back in, on stated assumptions.
A14: WHAT THE ASSUMPTIONS IMPLY
B15: A family child care licence is for 7 children; 1,195 of the 1,344 licensed family facilities in the 2020 FOI hold exactly 7. Assigning 2 under-3 and 5 aged 3-4 uses the full licence and leaves nothing for school-age children. A multi-age licence is for 8 children; 558 of 649 multi-age facilities in the 2020 FOI hold exactly 8, and the 16s, 24s and 32s are facilities running two, three or four multi-age groups. Assigning 3 under-3 and 5 aged 3-4 likewise uses the whole licence. It is likely that some of the care available in Multi-age and Family care is being used for school aged children.
B16: Both splits therefore allocate 100% of family and multi-age capacity to children under five and none to school-age children. That is a deliberate choice and it is the conservative one for the argument being made: it maximises measured under-five coverage and leaves column W, school-age coverage, at its lowest defensible level. If some of that capacity does serve school-age children, under-five coverage is lower than columns S and V show and school-age coverage is higher than column W shows.
A18: WHERE THE INPUTS COME FROM
A19: Family child care facilities (column AB) | B19: Counted directly in the CCOF district series. Note that CCOF files in-home multi-age under family child care: 9,636 licensed family spaces plus 2,986 in-home multi-age in the 2020 FOI comes to 12,622, against CCOF's 12,672.
A20: Multi-age licences (column AC) | B20: Not published. Derived as multi-age spaces divided by 8, which counts licensed multi-age GROUPS rather than buildings - the right unit here, since a facility with 16 multi-age spaces runs two groups of eight.
A21: Child population 0-5 (column AD) | B21: BC Stats P.E.O.P.L.E., ages 0 to 5 inclusive - six single-year cohorts, not "under five". Estimates for 2018 and 2020, projection for 2026.
