Workbook

Sheet Child Care Spaces per 100 child
A1: BC Child Care Spaces and Child Populations 2018, 2020, 2026
A2: SD number | B2: District | C2: Also known as | D2: Year | E2: Listed in CCOF | F2: Facilities | G2: Under-3 spaces receiving CCOF/CCFRI funding | H2: 30mo-SA spaces receiving CCOF/CCFRI funding | I2: Preschool spaces receiving CCOF/CCFRI funding | J2: School-age spaces receiving CCOF/CCFRI funding | K2: Multi-age spaces receiving CCOF/CCFRI funding | L2: Family spaces receiving CCOF/CCFRI funding | M2: Total spaces in the district, all care types, receiving CCOF / CCFRI | N2: Child Population 0-2 | O2: Child Population 3-4 | P2: Child Population 5-12 | Q2: Child Population 0-12 | R2: Spaces per 100 children (Group 0 - 36 months) | S2: Spaces per 100 children, under 3 (Group under 36 months, PLUS 2 per family child care facility, PLUS 3 per multi-age licence) | T2: Spaces per 100 children, ages 3-4 (Group 30 months to school age PLUS preschool) | U2: Spaces per 100 children, ages 3-4 (Group 30 months to school age only, EXCLUDES preschool) | V2: Spaces per 100 children, ages 3-4 (Group 30 months to school age + preschool, PLUS 5 per family child care facility, PLUS 5 per multi-age licence) | W2: Spaces per 100 children (School aged care) | X2: Spaces per 100 children, ages 0-12 (Family child care AND group multi-age combined) | Y2: All spaces per 100 children (aged 0-12) | Z2: Spaces per 100 children, ages 0-5 (Family child care spaces only) | AA2: Spaces per 100 children, ages 3-4 (Group 30 months to school age PLUS preschool) - repeat of column T | AB2: Family child care LICENSES (CCOF count) | AC2: Multi-age LICENSES | AD2: Child Population 0-5 (ages 0,1,2,3,4 and 5)
A3: BC | B3: BRITISH COLUMBIA | D3: 2018 | E3: yes | F3: 4633 | G3: 12250 | H3: 32597 | I3: 18641 | J3: 34645 | K3: 3151 | L3: 11454 | M3: 112738 | N3: 136844 | O3: 94352 | P3: 390931 | Q3: 622127 | R3: 9 | S3: =IF(N3=0,"",ROUND(100*(G3+'Assumptions'!$B$3*AB3+'Assumptions'!$B$4*AC3)/N3,1)) -> 12.1 | T3: 54.3 | U3: 34.5 | V3: =IF(O3=0,"",ROUND(100*(H3+I3+'Assumptions'!$B$5*AB3+'Assumptions'!$B$7*AC3)/O3,1)) -> 64.8 | W3: 8.9 | X3: 2.3 | Y3: 18.1 | Z3: =IF(AD3=0,"",ROUND(100*L3/AD3,1)) -> 4.1 | AA3: 54.3 | AB3: 1593 | AC3: =K3/'Assumptions'!$B$6 -> 393.875 | AD3: 279340
A4: BC | B4: BRITISH COLUMBIA | D4: 2020 | E4: yes | F4: 4999 | G4: 14933 | H4: 37706 | I4: 18111 | J4: 37779 | K4: 3537 | L4: 12672 | M4: 124738 | N4: 133360 | O4: 95807 | P4: 401896 | Q4: 631063 | R4: 11.2 | S4: =IF(N4=0,"",ROUND(100*(G4+'Assumptions'!$B$3*AB4+'Assumptions'!$B$4*AC4)/N4,1)) -> 14.8 | T4: 58.3 | U4: 39.4 | V4: =IF(O4=0,"",ROUND(100*(H4+I4+'Assumptions'!$B$5*AB4+'Assumptions'!$B$7*AC4)/O4,1)) -> 69.7 | W4: 9.4 | X4: 2.6 | Y4: 19.8 | Z4: =IF(AD4=0,"",ROUND(100*L4/AD4,1)) -> 4.6 | AA4: 58.3 | AB4: 1752 | AC4: =K4/'Assumptions'!$B$6 -> 442.125 | AD4: 278038
A5: BC | B5: BRITISH COLUMBIA | D5: 2026 | E5: yes | F5: 6391 | G5: 29733 | H5: 63426 | I5: 14534 | J5: 54433 | K5: 4877 | L5: 14054 | M5: 181057 | N5: 129907 | O5: 85332 | P5: 407016 | Q5: 622255 | R5: 22.9 | S5: =IF(N5=0,"",ROUND(100*(G5+'Assumptions'!$B$3*AB5+'Assumptions'!$B$4*AC5)/N5,1)) -> 27.2 | T5: 91.4 | U5: 74.3 | V5: =IF(O5=0,"",ROUND(100*(H5+I5+'Assumptions'!$B$5*AB5+'Assumptions'!$B$7*AC5)/O5,1)) -> 106 | W5: 13.4 | X5: 3 | Y5: 29.1 | Z5: =IF(AD5=0,"",ROUND(100*L5/AD5,1)) -> 5.4 | AA5: 91.4 | AB5: 1894 | AC5: =K5/'Assumptions'!$B$6 -> 609.625 | AD5: 259996
A6: 5 | B6: Southeast Kootenay | D6: 2018 | E6: yes | F6: 29 | G6: 64 | H6: 178 | I6: 96 | J6: 145 | K6: 48 | L6: 58 | M6: 589 | N6: 1285 | O6: 994 | P6: 3938 | Q6: 6217 | R6: 5 | S6: =IF(N6=0,"",ROUND(100*(G6+'Assumptions'!$B$3*AB6+'Assumptions'!$B$4*AC6)/N6,1)) -> 7.6 | T6: 27.6 | U6: 17.9 | V6: =IF(O6=0,"",ROUND(100*(H6+I6+'Assumptions'!$B$5*AB6+'Assumptions'!$B$7*AC6)/O6,1)) -> 34.6 | W6: 3.7 | X6: 1.7 | Y6: 9.5 | Z6: =IF(AD6=0,"",ROUND(100*L6/AD6,1)) -> 2.1 | AA6: 27.6 | AB6: 8 | AC6: =K6/'Assumptions'!$B$6 -> 6 | AD6: 2744
A7: 5 | B7: Southeast Kootenay | D7: 2020 | E7: yes | F7: 35 | G7: 64 | H7: 214 | I7: 116 | J7: 165 | K7: 64 | L7: 74 | M7: 697 | N7: 1194 | O7: 966 | P7: 4121 | Q7: 6281 | R7: 5.4 | S7: =IF(N7=0,"",ROUND(100*(G7+'Assumptions'!$B$3*AB7+'Assumptions'!$B$4*AC7)/N7,1)) -> 9 | T7: 34.2 | U7: 22.2 | V7: =IF(O7=0,"",ROUND(100*(H7+I7+'Assumptions'!$B$5*AB7+'Assumptions'!$B$7*AC7)/O7,1)) -> 43.5 | W7: 4 | X7: 2.2 | Y7: 11.1 | Z7: =IF(AD7=0,"",ROUND(100*L7/AD7,1)) -> 2.8 | AA7: 34.2 | AB7: 10 | AC7: =K7/'Assumptions'!$B$6 -> 8 | AD7: 2681
A8: 5 | B8: Southeast Kootenay | D8: 2026 | E8: yes | F8: 43 | G8: 106 | H8: 374 | I8: 124 | J8: 372 | K8: 69 | L8: 65 | M8: 1110 | N8: 1128 | O8: 745 | P8: 3926 | Q8: 5799 | R8: 9.4 | S8: =IF(N8=0,"",ROUND(100*(G8+'Assumptions'!$B$3*AB8+'Assumptions'!$B$4*AC8)/N8,1)) -> 13.3 | T8: 66.8 | U8: 50.2 | V8: =IF(O8=0,"",ROUND(100*(H8+I8+'Assumptions'!$B$5*AB8+'Assumptions'!$B$7*AC8)/O8,1)) -> 78.7 | W8: 9.5 | X8: 2.3 | Y8: 19.1 | Z8: =IF(AD8=0,"",ROUND(100*L8/AD8,1)) -> 2.9 | AA8: 66.8 | AB8: 9 | AC8: =K8/'Assumptions'!$B$6 -> 8.625 | AD8: 2278
A9: 6 | B9: Rocky Mountain | D9: 2018 | E9: yes | F9: 20 | G9: 44 | H9: 90 | I9: 100 | J9: 73 | K9: 32 | L9: 79 | M9: 418 | N9: 754 | O9: 549 | P9: 2104 | Q9: 3407 | R9: 5.8 | S9: =IF(N9=0,"",ROUND(100*(G9+'Assumptions'!$B$3*AB9+'Assumptions'!$B$4*AC9)/N9,1)) -> 10.3 | T9: 34.6 | U9: 16.4 | V9: =IF(O9=0,"",ROUND(100*(H9+I9+'Assumptions'!$B$5*AB9+'Assumptions'!$B$7*AC9)/O9,1)) -> 48.3 | W9: 3.5 | X9: 3.3 | Y9: 12.3 | Z9: =IF(AD9=0,"",ROUND(100*L9/AD9,1)) -> 5.1 | AA9: 34.6 | AB9: 11 | AC9: =K9/'Assumptions'!$B$6 -> 4 | AD9: 1551
A10: 6 | B10: Rocky Mountain | D10: 2020 | E10: yes | F10: 22 | G10: 56 | H10: 185 | I10: 80 | J10: 131 | K10: 32 | L10: 87 | M10: 571 | N10: 746 | O10: 535 | P10: 2286 | Q10: 3567 | R10: 7.5 | S10: =IF(N10=0,"",ROUND(100*(G10+'Assumptions'!$B$3*AB10+'Assumptions'!$B$4*AC10)/N10,1)) -> 12.3 | T10: 49.5 | U10: 34.6 | V10: =IF(O10=0,"",ROUND(100*(H10+I10+'Assumptions'!$B$5*AB10+'Assumptions'!$B$7*AC10)/O10,1)) -> 64.5 | W10: 5.7 | X10: 3.3 | Y10: 16 | Z10: =IF(AD10=0,"",ROUND(100*L10/AD10,1)) -> 5.6 | AA10: 49.5 | AB10: 12 | AC10: =K10/'Assumptions'!$B$6 -> 4 | AD10: 1559
A11: 6 | B11: Rocky Mountain | D11: 2026 | E11: yes | F11: 34 | G11: 140 | H11: 529 | I11: 152 | J11: 324 | K11: 40 | L11: 80 | M11: 1265 | N11: 751 | O11: 453 | P11: 2259 | Q11: 3463 | R11: 18.6 | S11: =IF(N11=0,"",ROUND(100*(G11+'Assumptions'!$B$3*AB11+'Assumptions'!$B$4*AC11)/N11,1)) -> 23.6 | T11: 150.3 | U11: 116.8 | V11: =IF(O11=0,"",ROUND(100*(H11+I11+'Assumptions'!$B$5*AB11+'Assumptions'!$B$7*AC11)/O11,1)) -> 168 | W11: 14.3 | X11: 3.5 | Y11: 36.5 | Z11: =IF(AD11=0,"",ROUND(100*L11/AD11,1)) -> 5.6 | AA11: 150.3 | AB11: 11 | AC11: =K11/'Assumptions'!$B$6 -> 5 | AD11: 1440
A12: 8 | B12: Kootenay Lake | D12: 2018 | E12: yes | F12: 32 | G12: 48 | H12: 251 | I12: 57 | J12: 182 | K12: 32 | L12: 76 | M12: 646 | N12: 988 | O12: 759 | P12: 3503 | Q12: 5250 | R12: 4.9 | S12: =IF(N12=0,"",ROUND(100*(G12+'Assumptions'!$B$3*AB12+'Assumptions'!$B$4*AC12)/N12,1)) -> 8.1 | T12: 40.6 | U12: 33.1 | V12: =IF(O12=0,"",ROUND(100*(H12+I12+'Assumptions'!$B$5*AB12+'Assumptions'!$B$7*AC12)/O12,1)) -> 49.8 | W12: 5.2 | X12: 2.1 | Y12: 12.3 | Z12: =IF(AD12=0,"",ROUND(100*L12/AD12,1)) -> 3.6 | AA12: 40.6 | AB12: 10 | AC12: =K12/'Assumptions'!$B$6 -> 4 | AD12: 2139
A13: 8 | B13: Kootenay Lake | D13: 2020 | E13: yes | F13: 39 | G13: 52 | H13: 304 | I13: 76 | J13: 136 | K13: 48 | L13: 105 | M13: 721 | N13: 966 | O13: 754 | P13: 3540 | Q13: 5260 | R13: 5.4 | S13: =IF(N13=0,"",ROUND(100*(G13+'Assumptions'!$B$3*AB13+'Assumptions'!$B$4*AC13)/N13,1)) -> 10.1 | T13: 50.4 | U13: 40.3 | V13: =IF(O13=0,"",ROUND(100*(H13+I13+'Assumptions'!$B$5*AB13+'Assumptions'!$B$7*AC13)/O13,1)) -> 63.7 | W13: 3.8 | X13: 2.9 | Y13: 13.7 | Z13: =IF(AD13=0,"",ROUND(100*L13/AD13,1)) -> 4.9 | AA13: 50.4 | AB13: 14 | AC13: =K13/'Assumptions'!$B$6 -> 6 | AD13: 2135
A14: 8 | B14: Kootenay Lake | D14: 2026 | E14: yes | F14: 43 | G14: 132 | H14: 375 | I14: 90 | J14: 249 | K14: 44 | L14: 87 | M14: 977 | N14: 890 | O14: 604 | P14: 3202 | Q14: 4696 | R14: 14.8 | S14: =IF(N14=0,"",ROUND(100*(G14+'Assumptions'!$B$3*AB14+'Assumptions'!$B$4*AC14)/N14,1)) -> 19.4 | T14: 77 | U14: 62.1 | V14: =IF(O14=0,"",ROUND(100*(H14+I14+'Assumptions'!$B$5*AB14+'Assumptions'!$B$7*AC14)/O14,1)) -> 91.5 | W14: 7.8 | X14: 2.8 | Y14: 20.8 | Z14: =IF(AD14=0,"",ROUND(100*L14/AD14,1)) -> 4.8 | AA14: 77 | AB14: 12 | AC14: =K14/'Assumptions'!$B$6 -> 5.5 | AD14: 1820
A15: 10 | B15: Arrow Lakes | D15: 2018 | E15: yes | F15: 2 | G15: 0 | H15: 16 | I15: 12 | J15: 0 | K15: 0 | L15: 0 | M15: 28 | N15: 82 | O15: 67 | P15: 264 | Q15: 413 | R15: 0 | S15: =IF(N15=0,"",ROUND(100*(G15+'Assumptions'!$B$3*AB15+'Assumptions'!$B$4*AC15)/N15,1)) -> 0 | T15: 41.8 | U15: 23.9 | V15: =IF(O15=0,"",ROUND(100*(H15+I15+'Assumptions'!$B$5*AB15+'Assumptions'!$B$7*AC15)/O15,1)) -> 41.8 | W15: 0 | X15: 0 | Y15: 6.8 | Z15: =IF(AD15=0,"",ROUND(100*L15/AD15,1)) -> 0 | AA15: 41.8 | AB15: 0 | AC15: =K15/'Assumptions'!$B$6 -> 0 | AD15: 178
A16: 10 | B16: Arrow Lakes | D16: 2020 | E16: yes | F16: 3 | G16: 0 | H16: 16 | I16: 12 | J16: 0 | K16: 0 | L16: 7 | M16: 35 | N16: 72 | O16: 68 | P16: 285 | Q16: 425 | R16: 0 | S16: =IF(N16=0,"",ROUND(100*(G16+'Assumptions'!$B$3*AB16+'Assumptions'!$B$4*AC16)/N16,1)) -> 2.8 | T16: 41.2 | U16: 23.5 | V16: =IF(O16=0,"",ROUND(100*(H16+I16+'Assumptions'!$B$5*AB16+'Assumptions'!$B$7*AC16)/O16,1)) -> 48.5 | W16: 0 | X16: 1.6 | Y16: 8.2 | Z16: =IF(AD16=0,"",ROUND(100*L16/AD16,1)) -> 3.8 | AA16: 41.2 | AB16: 1 | AC16: =K16/'Assumptions'!$B$6 -> 0 | AD16: 182
A17: 10 | B17: Arrow Lakes | D17: 2026 | E17: yes | F17: 6 | G17: 8 | H17: 16 | I17: 14 | J17: 48 | K17: 40 | L17: 15 | M17: 141 | N17: 71 | O17: 65 | P17: 305 | Q17: 441 | R17: 11.3 | S17: =IF(N17=0,"",ROUND(100*(G17+'Assumptions'!$B$3*AB17+'Assumptions'!$B$4*AC17)/N17,1)) -> 38 | T17: 46.2 | U17: 24.6 | V17: =IF(O17=0,"",ROUND(100*(H17+I17+'Assumptions'!$B$5*AB17+'Assumptions'!$B$7*AC17)/O17,1)) -> 100 | W17: 15.7 | X17: 12.5 | Y17: 32 | Z17: =IF(AD17=0,"",ROUND(100*L17/AD17,1)) -> 9 | AA17: 46.2 | AB17: 2 | AC17: =K17/'Assumptions'!$B$6 -> 5 | AD17: 167
... A29: 23 | B29: Central Okanagan | D29: 2026 | E29: yes | F29: 248 | G29: 1382 | H29: 2808 | I29: 811 | J29: 2474 | K29: 505 | L29: 548 | M29: 8528 | N29: 5480 | O29: 3722 | P29: 17706 | Q29: 26908 | R29: 25.2 | S29: =IF(N29=0,"",ROUND(100*(G29+'Assumptions'!$B$3*AB29+'Assumptions'!$B$4*AC29)/N29,1)) -> 31.4 | T29: 97.2 | U29: 75.4 | V29: =IF(O29=0,"",ROUND(100*(H29+I29+'Assumptions'!$B$5*AB29+'Assumptions'!$B$7*AC29)/O29,1)) -> 115.7 | W29: 14 | X29: 3.9 | Y29: 31.7 | Z29: =IF(AD29=0,"",ROUND(100*L29/AD29,1)) -> 4.9 | AA29: 97.2 | AB29: 74 | AC29: =K29/'Assumptions'!$B$6 -> 63.125 | AD29: 11139
A30: 27 | B30: Cariboo-Chilcotin | C30: Cariboo - Chilcotin | D30: 2018 | E30: yes | F30: 33 | G30: 60 | H30: 179 | I30: 109 | J30: 276 | K30: 72 | L30: 85 | M30: 781 | N30: 1109 | O30: 780 | P30: 3337 | Q30: 5226 | R30: 5.4 | S30: =IF(N30=0,"",ROUND(100*(G30+'Assumptions'!$B$3*AB30+'Assumptions'!$B$4*AC30)/N30,1)) -> 10 | T30: 36.9 | U30: 22.9 | V30: =IF(O30=0,"",ROUND(100*(H30+I30+'Assumptions'!$B$5*AB30+'Assumptions'!$B$7*AC30)/O30,1)) -> 50.4 | W30: 8.3 | X30: 3 | Y30: 14.9 | Z30: =IF(AD30=0,"",ROUND(100*L30/AD30,1)) -> 3.7 | AA30: 36.9 | AB30: 12 | AC30: =K30/'Assumptions'!$B$6 -> 9 | AD30: 2294
A31: 27 | B31: Cariboo-Chilcotin | C31: Cariboo - Chilcotin | D31: 2020 | E31: yes | F31: 37 | G31: 76 | H31: 174 | I31: 95 | J31: 276 | K31: 72 | L31: 114 | M31: 807 | N31: 1103 | O31: 775 | P31: 3398 | Q31: 5276 | R31: 6.9 | S31: =IF(N31=0,"",ROUND(100*(G31+'Assumptions'!$B$3*AB31+'Assumptions'!$B$4*AC31)/N31,1)) -> 12.2 | T31: 34.7 | U31: 22.5 | V31: =IF(O31=0,"",ROUND(100*(H31+I31+'Assumptions'!$B$5*AB31+'Assumptions'!$B$7*AC31)/O31,1)) -> 50.8 | W31: 8.1 | X31: 3.5 | Y31: 15.3 | Z31: =IF(AD31=0,"",ROUND(100*L31/AD31,1)) -> 5 | AA31: 34.7 | AB31: 16 | AC31: =K31/'Assumptions'!$B$6 -> 9 | AD31: 2278
A32: 27 | B32: Cariboo-Chilcotin | C32: Cariboo - Chilcotin | D32: 2026 | E32: yes | F32: 43 | G32: 108 | H32: 260 | I32: 129 | J32: 455 | K32: 90 | L32: 100 | M32: 1142 | N32: 876 | O32: 652 | P32: 3148 | Q32: 4676 | R32: 12.3 | S32: =IF(N32=0,"",ROUND(100*(G32+'Assumptions'!$B$3*AB32+'Assumptions'!$B$4*AC32)/N32,1)) -> 19.4 | T32: 59.7 | U32: 39.9 | V32: =IF(O32=0,"",ROUND(100*(H32+I32+'Assumptions'!$B$5*AB32+'Assumptions'!$B$7*AC32)/O32,1)) -> 79 | W32: 14.5 | X32: 4.1 | Y32: 24.4 | Z32: =IF(AD32=0,"",ROUND(100*L32/AD32,1)) -> 5.3 | AA32: 59.7 | AB32: 14 | AC32: =K32/'Assumptions'!$B$6 -> 11.25 | AD32: 1875
A33: 28 | B33: Quesnel | D33: 2018 | E33: yes | F33: 22 | G33: 24 | H33: 93 | I33: 63 | J33: 160 | K33: 64 | L33: 70 | M33: 474 | N33: 713 | O33: 477 | P33: 2168 | Q33: 3358 | R33: 3.4 | S33: =IF(N33=0,"",ROUND(100*(G33+'Assumptions'!$B$3*AB33+'Assumptions'!$B$4*AC33)/N33,1)) -> 9.5 | T33: 32.7 | U33: 19.5 | V33: =IF(O33=0,"",ROUND(100*(H33+I33+'Assumptions'!$B$5*AB33+'Assumptions'!$B$7*AC33)/O33,1)) -> 51.6 | W33: 7.4 | X33: 4 | Y33: 14.1 | Z33: =IF(AD33=0,"",ROUND(100*L33/AD33,1)) -> 4.9 | AA33: 32.7 | AB33: 10 | AC33: =K33/'Assumptions'!$B$6 -> 8 | AD33: 1432
A34: 28 | B34: Quesnel | D34: 2020 | E34: yes | F34: 26 | G34: 36 | H34: 93 | I34: 66 | J34: 81 | K34: 48 | L34: 99 | M34: 423 | N34: 656 | O34: 478 | P34: 2146 | Q34: 3280 | R34: 5.5 | S34: =IF(N34=0,"",ROUND(100*(G34+'Assumptions'!$B$3*AB34+'Assumptions'!$B$4*AC34)/N34,1)) -> 12.5 | T34: 33.3 | U34: 19.5 | V34: =IF(O34=0,"",ROUND(100*(H34+I34+'Assumptions'!$B$5*AB34+'Assumptions'!$B$7*AC34)/O34,1)) -> 54.2 | W34: 3.8 | X34: 4.5 | Y34: 12.9 | Z34: =IF(AD34=0,"",ROUND(100*L34/AD34,1)) -> 7.2 | AA34: 33.3 | AB34: 14 | AC34: =K34/'Assumptions'!$B$6 -> 6 | AD34: 1372
A35: 28 | B35: Quesnel | D35: 2026 | E35: yes | F35: 24 | G35: 36 | H35: 151 | I35: 36 | J35: 115 | K35: 48 | L35: 94 | M35: 480 | N35: 543 | O35: 354 | P35: 1895 | Q35: 2792 | R35: 6.6 | S35: =IF(N35=0,"",ROUND(100*(G35+'Assumptions'!$B$3*AB35+'Assumptions'!$B$4*AC35)/N35,1)) -> 14.7 | T35: 52.8 | U35: 42.7 | V35: =IF(O35=0,"",ROUND(100*(H35+I35+'Assumptions'!$B$5*AB35+'Assumptions'!$B$7*AC35)/O35,1)) -> 79.7 | W35: 6.1 | X35: 5.1 | Y35: 17.2 | Z35: =IF(AD35=0,"",ROUND(100*L35/AD35,1)) -> 8.7 | AA35: 52.8 | AB35: 13 | AC35: =K35/'Assumptions'!$B$6 -> 6 | AD35: 1079
A36: 33 | B36: Chilliwack | D36: 2018 | E36: yes | F36: 84 | G36: 126 | H36: 401 | I36: 473 | J36: 616 | K36: 40 | L36: 271 | M36: 1927 | N36: 3521 | O36: 2410 | P36: 9983 | Q36: 15914 | R36: 3.6 | S36: =IF(N36=0,"",ROUND(100*(G36+'Assumptions'!$B$3*AB36+'Assumptions'!$B$4*AC36)/N36,1)) -> 6.1 | T36: 36.3 | U36: 16.6 | V36: =IF(O36=0,"",ROUND(100*(H36+I36+'Assumptions'!$B$5*AB36+'Assumptions'!$B$7*AC36)/O36,1)) -> 45 | W36: 6.2 | X36: 2 | Y36: 12.1 | Z36: =IF(AD36=0,"",ROUND(100*L36/AD36,1)) -> 3.8 | AA36: 36.3 | AB36: 37 | AC36: =K36/'Assumptions'!$B$6 -> 5 | AD36: 7155
A37: 33 | B37: Chilliwack | D37: 2020 | E37: yes | F37: 99 | G37: 182 | H37: 526 | I37: 449 | J37: 670 | K37: 71 | L37: 350 | M37: 2248 | N37: 3472 | O37: 2520 | P37: 10432 | Q37: 16424 | R37: 5.2 | S37: =IF(N37=0,"",ROUND(100*(G37+'Assumptions'!$B$3*AB37+'Assumptions'!$B$4*AC37)/N37,1)) -> 8.8 | T37: 38.7 | U37: 20.9 | V37: =IF(O37=0,"",ROUND(100*(H37+I37+'Assumptions'!$B$5*AB37+'Assumptions'!$B$7*AC37)/O37,1)) -> 50 | W37: 6.4 | X37: 2.6 | Y37: 13.7 | Z37: =IF(AD37=0,"",ROUND(100*L37/AD37,1)) -> 4.8 | AA37: 38.7 | AB37: 48 | AC37: =K37/'Assumptions'!$B$6 -> 8.875 | AD37: 7243
A38: 33 | B38: Chilliwack | D38: 2026 | E38: yes | F38: 191 | G38: 802 | H38: 1402 | I38: 369 | J38: 1280 | K38: 304 | L38: 500 | M38: 4657 | N38: 3529 | O38: 2371 | P38: 11131 | Q38: 17031 | R38: 22.7 | S38: =IF(N38=0,"",ROUND(100*(G38+'Assumptions'!$B$3*AB38+'Assumptions'!$B$4*AC38)/N38,1)) -> 29.8 | T38: 74.7 | U38: 59.1 | V38: =IF(O38=0,"",ROUND(100*(H38+I38+'Assumptions'!$B$5*AB38+'Assumptions'!$B$7*AC38)/O38,1)) -> 96.8 | W38: 11.5 | X38: 4.7 | Y38: 27.3 | Z38: =IF(AD38=0,"",ROUND(100*L38/AD38,1)) -> 7 | AA38: 74.7 | AB38: 67 | AC38: =K38/'Assumptions'!$B$6 -> 38 | AD38: 7163
A39: 34 | B39: Abbotsford | D39: 2018 | E39: yes | F39: 110 | G39: 234 | H39: 578 | I39: 706 | J39: 951 | K39: 80 | L39: 282 | M39: 2831 | N39: 5250 | O39: 3565 | P39: 14869 | Q39: 23684 | R39: 4.5 | S39: =IF(N39=0,"",ROUND(100*(G39+'Assumptions'!$B$3*AB39+'Assumptions'!$B$4*AC39)/N39,1)) -> 6.5 | T39: 36 | U39: 16.2 | V39: =IF(O39=0,"",ROUND(100*(H39+I39+'Assumptions'!$B$5*AB39+'Assumptions'!$B$7*AC39)/O39,1)) -> 42.7 | W39: 6.4 | X39: 1.5 | Y39: 12 | Z39: =IF(AD39=0,"",ROUND(100*L39/AD39,1)) -> 2.7 | AA39: 36 | AB39: 38 | AC39: =K39/'Assumptions'!$B$6 -> 10 | AD39: 10628
A40: 34 | B40: Abbotsford | D40: 2020 | E40: yes | F40: 120 | G40: 375 | H40: 771 | I40: 642 | J40: 1063 | K40: 80 | L40: 314 | M40: 3245 | N40: 5060 | O40: 3632 | P40: 15128 | Q40: 23820 | R40: 7.4 | S40: =IF(N40=0,"",ROUND(100*(G40+'Assumptions'!$B$3*AB40+'Assumptions'!$B$4*AC40)/N40,1)) -> 9.7 | T40: 38.9 | U40: 21.2 | V40: =IF(O40=0,"",ROUND(100*(H40+I40+'Assumptions'!$B$5*AB40+'Assumptions'!$B$7*AC40)/O40,1)) -> 46.1 | W40: 7 | X40: 1.7 | Y40: 13.6 | Z40: =IF(AD40=0,"",ROUND(100*L40/AD40,1)) -> 3 | AA40: 38.9 | AB40: 42 | AC40: =K40/'Assumptions'!$B$6 -> 10 | AD40: 10519
A41: 34 | B41: Abbotsford | D41: 2026 | E41: yes | F41: 188 | G41: 1196 | H41: 2101 | I41: 490 | J41: 1714 | K41: 112 | L41: 587 | M41: 6200 | N41: 5336 | O41: 3341 | P41: 15083 | Q41: 23760 | R41: 22.4 | S41: =IF(N41=0,"",ROUND(100*(G41+'Assumptions'!$B$3*AB41+'Assumptions'!$B$4*AC41)/N41,1)) -> 26 | T41: 77.6 | U41: 62.9 | V41: =IF(O41=0,"",ROUND(100*(H41+I41+'Assumptions'!$B$5*AB41+'Assumptions'!$B$7*AC41)/O41,1)) -> 90.9 | W41: 11.4 | X41: 2.9 | Y41: 26.1 | Z41: =IF(AD41=0,"",ROUND(100*L41/AD41,1)) -> 5.7 | AA41: 77.6 | AB41: 75 | AC41: =K41/'Assumptions'!$B$6 -> 14 | AD41: 10378
A42: 35 | B42: Langley | D42: 2018 | E42: yes | F42: 136 | G42: 720 | H42: 1364 | I42: 857 | J42: 1122 | K42: 37 | L42: 328 | M42: 4428 | N42: 5289 | O42: 3697 | P42: 15043 | Q42: 24029 | R42: 13.6 | S42: =IF(N42=0,"",ROUND(100*(G42+'Assumptions'!$B$3*AB42+'Assumptions'!$B$4*AC42)/N42,1)) -> 15.6 | T42: 60.1 | U42: 36.9 | V42: =IF(O42=0,"",ROUND(100*(H42+I42+'Assumptions'!$B$5*AB42+'Assumptions'!$B$7*AC42)/O42,1)) -> 66.8 | W42: 7.5 | X42: 1.5 | Y42: 18.4 | Z42: =IF(AD42=0,"",ROUND(100*L42/AD42,1)) -> 3 | AA42: 60.1 | AB42: 45 | AC42: =K42/'Assumptions'!$B$6 -> 4.625 | AD42: 10890
A43: 35 | B43: Langley | D43: 2020 | E43: yes | F43: 146 | G43: 868 | H43: 1666 | I43: 784 | J43: 1242 | K43: 45 | L43: 379 | M43: 4984 | N43: 5286 | O43: 3829 | P43: 15673 | Q43: 24788 | R43: 16.4 | S43: =IF(N43=0,"",ROUND(100*(G43+'Assumptions'!$B$3*AB43+'Assumptions'!$B$4*AC43)/N43,1)) -> 18.7 | T43: 64 | U43: 43.5 | V43: =IF(O43=0,"",ROUND(100*(H43+I43+'Assumptions'!$B$5*AB43+'Assumptions'!$B$7*AC43)/O43,1)) -> 71.4 | W43: 7.9 | X43: 1.7 | Y43: 20.1 | Z43: =IF(AD43=0,"",ROUND(100*L43/AD43,1)) -> 3.4 | AA43: 64 | AB43: 51 | AC43: =K43/'Assumptions'!$B$6 -> 5.625 | AD43: 11067
A44: 35 | B44: Langley | D44: 2026 | E44: yes | F44: 238 | G44: 1842 | H44: 3332 | I44: 771 | J44: 2065 | K44: 92 | L44: 504 | M44: 8606 | N44: 5370 | O44: 3772 | P44: 17848 | Q44: 26990 | R44: 34.3 | S44: =IF(N44=0,"",ROUND(100*(G44+'Assumptions'!$B$3*AB44+'Assumptions'!$B$4*AC44)/N44,1)) -> 37.4 | T44: 108.8 | U44: 88.3 | V44: =IF(O44=0,"",ROUND(100*(H44+I44+'Assumptions'!$B$5*AB44+'Assumptions'!$B$7*AC44)/O44,1)) -> 119 | W44: 11.6 | X44: 2.2 | Y44: 31.9 | Z44: =IF(AD44=0,"",ROUND(100*L44/AD44,1)) -> 4.5 | AA44: 108.8 | AB44: 66 | AC44: =K44/'Assumptions'!$B$6 -> 11.5 | AD44: 11120
... A77: 46 | B77: Sunshine Coast | D77: 2026 | E77: yes | F77: 49 | G77: 92 | H77: 380 | I77: 20 | J77: 210 | K77: 8 | L77: 126 | M77: 836 | N77: 634 | O77: 408 | P77: 2070 | Q77: 3112 | R77: 14.5 | S77: =IF(N77=0,"",ROUND(100*(G77+'Assumptions'!$B$3*AB77+'Assumptions'!$B$4*AC77)/N77,1)) -> 20.3 | T77: 98 | U77: 93.1 | V77: =IF(O77=0,"",ROUND(100*(H77+I77+'Assumptions'!$B$5*AB77+'Assumptions'!$B$7*AC77)/O77,1)) -> 120.1 | W77: 10.1 | X77: 4.3 | Y77: 26.9 | Z77: =IF(AD77=0,"",ROUND(100*L77/AD77,1)) -> 10 | AA77: 98 | AB77: 17 | AC77: =K77/'Assumptions'!$B$6 -> 1 | AD77: 1258
A78: 47 | B78: qathet | C78: Powell River | D78: 2018 | E78: yes | F78: 24 | G78: 28 | H78: 76 | I78: 92 | J78: 50 | K78: 31 | L78: 35 | M78: 312 | N78: 474 | O78: 352 | P78: 1455 | Q78: 2281 | R78: 5.9 | S78: =IF(N78=0,"",ROUND(100*(G78+'Assumptions'!$B$3*AB78+'Assumptions'!$B$4*AC78)/N78,1)) -> 10.5 | T78: 47.7 | U78: 21.6 | V78: =IF(O78=0,"",ROUND(100*(H78+I78+'Assumptions'!$B$5*AB78+'Assumptions'!$B$7*AC78)/O78,1)) -> 60.3 | W78: 3.4 | X78: 2.9 | Y78: 13.7 | Z78: =IF(AD78=0,"",ROUND(100*L78/AD78,1)) -> 3.5 | AA78: 47.7 | AB78: 5 | AC78: =K78/'Assumptions'!$B$6 -> 3.875 | AD78: 988
A79: 47 | B79: qathet | C79: Powell River | D79: 2020 | E79: yes | F79: 24 | G79: 16 | H79: 58 | I79: 82 | J79: 50 | K79: 31 | L79: 43 | M79: 280 | N79: 446 | O79: 332 | P79: 1516 | Q79: 2294 | R79: 3.6 | S79: =IF(N79=0,"",ROUND(100*(G79+'Assumptions'!$B$3*AB79+'Assumptions'!$B$4*AC79)/N79,1)) -> 8.9 | T79: 42.2 | U79: 17.5 | V79: =IF(O79=0,"",ROUND(100*(H79+I79+'Assumptions'!$B$5*AB79+'Assumptions'!$B$7*AC79)/O79,1)) -> 57 | W79: 3.3 | X79: 3.2 | Y79: 12.2 | Z79: =IF(AD79=0,"",ROUND(100*L79/AD79,1)) -> 4.5 | AA79: 42.2 | AB79: 6 | AC79: =K79/'Assumptions'!$B$6 -> 3.875 | AD79: 957
A80: 47 | B80: qathet | C80: Powell River | D80: 2026 | E80: yes | F80: 39 | G80: 63 | H80: 96 | I80: 80 | J80: 189 | K80: 55 | L80: 53 | M80: 536 | N80: 403 | O80: 286 | P80: 1411 | Q80: 2100 | R80: 15.6 | S80: =IF(N80=0,"",ROUND(100*(G80+'Assumptions'!$B$3*AB80+'Assumptions'!$B$4*AC80)/N80,1)) -> 24.2 | T80: 61.5 | U80: 33.6 | V80: =IF(O80=0,"",ROUND(100*(H80+I80+'Assumptions'!$B$5*AB80+'Assumptions'!$B$7*AC80)/O80,1)) -> 85.8 | W80: 13.4 | X80: 5.1 | Y80: 25.5 | Z80: =IF(AD80=0,"",ROUND(100*L80/AD80,1)) -> 6.5 | AA80: 61.5 | AB80: 7 | AC80: =K80/'Assumptions'!$B$6 -> 6.875 | AD80: 821
A81: 48 | B81: Sea to Sky | D81: 2018 | E81: yes | F81: 63 | G81: 132 | H81: 410 | I81: 85 | J81: 232 | K81: 16 | L81: 144 | M81: 1019 | N81: 1455 | O81: 1010 | P81: 3918 | Q81: 6383 | R81: 9.1 | S81: =IF(N81=0,"",ROUND(100*(G81+'Assumptions'!$B$3*AB81+'Assumptions'!$B$4*AC81)/N81,1)) -> 12.2 | T81: 49 | U81: 40.6 | V81: =IF(O81=0,"",ROUND(100*(H81+I81+'Assumptions'!$B$5*AB81+'Assumptions'!$B$7*AC81)/O81,1)) -> 59.9 | W81: 5.9 | X81: 2.5 | Y81: 16 | Z81: =IF(AD81=0,"",ROUND(100*L81/AD81,1)) -> 4.8 | AA81: 49 | AB81: 20 | AC81: =K81/'Assumptions'!$B$6 -> 2 | AD81: 2993
A82: 48 | B82: Sea to Sky | D82: 2020 | E82: yes | F82: 71 | G82: 128 | H82: 484 | I82: 89 | J82: 260 | K82: 0 | L82: 182 | M82: 1143 | N82: 1503 | O82: 1017 | P82: 4075 | Q82: 6595 | R82: 8.5 | S82: =IF(N82=0,"",ROUND(100*(G82+'Assumptions'!$B$3*AB82+'Assumptions'!$B$4*AC82)/N82,1)) -> 12 | T82: 56.3 | U82: 47.6 | V82: =IF(O82=0,"",ROUND(100*(H82+I82+'Assumptions'!$B$5*AB82+'Assumptions'!$B$7*AC82)/O82,1)) -> 69.1 | W82: 6.4 | X82: 2.8 | Y82: 17.3 | Z82: =IF(AD82=0,"",ROUND(100*L82/AD82,1)) -> 6 | AA82: 56.3 | AB82: 26 | AC82: =K82/'Assumptions'!$B$6 -> 0 | AD82: 3020
A83: 48 | B83: Sea to Sky | D83: 2026 | E83: yes | F83: 81 | G83: 332 | H83: 818 | I83: 32 | J83: 354 | K83: 0 | L83: 124 | M83: 1660 | N83: 1526 | O83: 861 | P83: 3966 | Q83: 6353 | R83: 21.8 | S83: =IF(N83=0,"",ROUND(100*(G83+'Assumptions'!$B$3*AB83+'Assumptions'!$B$4*AC83)/N83,1)) -> 24.1 | T83: 98.7 | U83: 95 | V83: =IF(O83=0,"",ROUND(100*(H83+I83+'Assumptions'!$B$5*AB83+'Assumptions'!$B$7*AC83)/O83,1)) -> 109.2 | W83: 8.9 | X83: 2 | Y83: 26.1 | Z83: =IF(AD83=0,"",ROUND(100*L83/AD83,1)) -> 4.3 | AA83: 98.7 | AB83: 18 | AC83: =K83/'Assumptions'!$B$6 -> 0 | AD83: 2853
A84: 49 | B84: Central Coast | D84: 2018 | E84: yes | F84: 5 | G84: 12 | H84: 50 | I84: 0 | J84: 20 | K84: 0 | L84: 0 | M84: 82 | N84: 114 | O84: 82 | P84: 381 | Q84: 577 | R84: 10.5 | S84: =IF(N84=0,"",ROUND(100*(G84+'Assumptions'!$B$3*AB84+'Assumptions'!$B$4*AC84)/N84,1)) -> 10.5 | T84: 61 | U84: 61 | V84: =IF(O84=0,"",ROUND(100*(H84+I84+'Assumptions'!$B$5*AB84+'Assumptions'!$B$7*AC84)/O84,1)) -> 61 | W84: 5.2 | X84: 0 | Y84: 14.2 | Z84: =IF(AD84=0,"",ROUND(100*L84/AD84,1)) -> 0 | AA84: 61 | AB84: 0 | AC84: =K84/'Assumptions'!$B$6 -> 0 | AD84: 237
A85: 49 | B85: Central Coast | D85: 2020 | E85: yes | F85: 6 | G85: 20 | H85: 58 | I85: 0 | J85: 0 | K85: 0 | L85: 0 | M85: 78 | N85: 90 | O85: 82 | P85: 365 | Q85: 537 | R85: 22.2 | S85: =IF(N85=0,"",ROUND(100*(G85+'Assumptions'!$B$3*AB85+'Assumptions'!$B$4*AC85)/N85,1)) -> 22.2 | T85: 70.7 | U85: 70.7 | V85: =IF(O85=0,"",ROUND(100*(H85+I85+'Assumptions'!$B$5*AB85+'Assumptions'!$B$7*AC85)/O85,1)) -> 70.7 | W85: 0 | X85: 0 | Y85: 14.5 | Z85: =IF(AD85=0,"",ROUND(100*L85/AD85,1)) -> 0 | AA85: 70.7 | AB85: 0 | AC85: =K85/'Assumptions'!$B$6 -> 0 | AD85: 216
A86: 49 | B86: Central Coast | D86: 2026 | E86: yes | F86: 6 | G86: 20 | H86: 38 | I86: 0 | J86: 0 | K86: 8 | L86: 0 | M86: 66 | N86: 116 | O86: 69 | P86: 316 | Q86: 501 | R86: 17.2 | S86: =IF(N86=0,"",ROUND(100*(G86+'Assumptions'!$B$3*AB86+'Assumptions'!$B$4*AC86)/N86,1)) -> 19.8 | T86: 55.1 | U86: 55.1 | V86: =IF(O86=0,"",ROUND(100*(H86+I86+'Assumptions'!$B$5*AB86+'Assumptions'!$B$7*AC86)/O86,1)) -> 62.3 | W86: 0 | X86: 1.6 | Y86: 13.2 | Z86: =IF(AD86=0,"",ROUND(100*L86/AD86,1)) -> 0 | AA86: 55.1 | AB86: 0 | AC86: =K86/'Assumptions'!$B$6 -> 1 | AD86: 218
A87: 50 | B87: Haida Gwaii | C87: Haida Qwaii/Queen Charlotte | D87: 2018 | E87: yes | F87: 2 | G87: 0 | H87: 0 | I87: 30 | J87: 0 | K87: 32 | L87: 0 | M87: 62 | N87: 132 | O87: 82 | P87: 322 | Q87: 536 | R87: 0 | S87: =IF(N87=0,"",ROUND(100*(G87+'Assumptions'!$B$3*AB87+'Assumptions'!$B$4*AC87)/N87,1)) -> 9.1 | T87: 36.6 | U87: 0 | V87: =IF(O87=0,"",ROUND(100*(H87+I87+'Assumptions'!$B$5*AB87+'Assumptions'!$B$7*AC87)/O87,1)) -> 61 | W87: 0 | X87: 6 | Y87: 11.6 | Z87: =IF(AD87=0,"",ROUND(100*L87/AD87,1)) -> 0 | AA87: 36.6 | AB87: 0 | AC87: =K87/'Assumptions'!$B$6 -> 4 | AD87: 254
A88: 50 | B88: Haida Gwaii | C88: Haida Qwaii/Queen Charlotte | D88: 2020 | E88: yes | F88: 2 | G88: 0 | H88: 50 | I88: 0 | J88: 0 | K88: 24 | L88: 0 | M88: 74 | N88: 107 | O88: 90 | P88: 326 | Q88: 523 | R88: 0 | S88: =IF(N88=0,"",ROUND(100*(G88+'Assumptions'!$B$3*AB88+'Assumptions'!$B$4*AC88)/N88,1)) -> 8.4 | T88: 55.6 | U88: 55.6 | V88: =IF(O88=0,"",ROUND(100*(H88+I88+'Assumptions'!$B$5*AB88+'Assumptions'!$B$7*AC88)/O88,1)) -> 72.2 | W88: 0 | X88: 4.6 | Y88: 14.1 | Z88: =IF(AD88=0,"",ROUND(100*L88/AD88,1)) -> 0 | AA88: 55.6 | AB88: 0 | AC88: =K88/'Assumptions'!$B$6 -> 3 | AD88: 238
A89: 50 | B89: Haida Gwaii | C89: Haida Qwaii/Queen Charlotte | D89: 2026 | E89: yes | F89: 4 | G89: 20 | H89: 32 | I89: 0 | J89: 34 | K89: 24 | L89: 0 | M89: 110 | N89: 111 | O89: 70 | P89: 328 | Q89: 509 | R89: 18 | S89: =IF(N89=0,"",ROUND(100*(G89+'Assumptions'!$B$3*AB89+'Assumptions'!$B$4*AC89)/N89,1)) -> 26.1 | T89: 45.7 | U89: 45.7 | V89: =IF(O89=0,"",ROUND(100*(H89+I89+'Assumptions'!$B$5*AB89+'Assumptions'!$B$7*AC89)/O89,1)) -> 67.1 | W89: 10.4 | X89: 4.7 | Y89: 21.6 | Z89: =IF(AD89=0,"",ROUND(100*L89/AD89,1)) -> 0 | AA89: 45.7 | AB89: 0 | AC89: =K89/'Assumptions'!$B$6 -> 3 | AD89: 212
A90: 51 | B90: Boundary | D90: 2018 | E90: yes | F90: 5 | G90: 8 | H90: 40 | I90: 28 | J90: 20 | K90: 8 | L90: 8 | M90: 112 | N90: 202 | O90: 157 | P90: 830 | Q90: 1189 | R90: 4 | S90: =IF(N90=0,"",ROUND(100*(G90+'Assumptions'!$B$3*AB90+'Assumptions'!$B$4*AC90)/N90,1)) -> 6.4 | T90: 43.3 | U90: 25.5 | V90: =IF(O90=0,"",ROUND(100*(H90+I90+'Assumptions'!$B$5*AB90+'Assumptions'!$B$7*AC90)/O90,1)) -> 49.7 | W90: 2.4 | X90: 1.3 | Y90: 9.4 | Z90: =IF(AD90=0,"",ROUND(100*L90/AD90,1)) -> 1.8 | AA90: 43.3 | AB90: 1 | AC90: =K90/'Assumptions'!$B$6 -> 1 | AD90: 447
A91: 51 | B91: Boundary | D91: 2020 | E91: yes | F91: 4 | G91: 8 | H91: 24 | I91: 20 | J91: 20 | K91: 16 | L91: 8 | M91: 96 | N91: 186 | O91: 159 | P91: 838 | Q91: 1183 | R91: 4.3 | S91: =IF(N91=0,"",ROUND(100*(G91+'Assumptions'!$B$3*AB91+'Assumptions'!$B$4*AC91)/N91,1)) -> 8.6 | T91: 27.7 | U91: 15.1 | V91: =IF(O91=0,"",ROUND(100*(H91+I91+'Assumptions'!$B$5*AB91+'Assumptions'!$B$7*AC91)/O91,1)) -> 37.1 | W91: 2.4 | X91: 2 | Y91: 8.1 | Z91: =IF(AD91=0,"",ROUND(100*L91/AD91,1)) -> 1.8 | AA91: 27.7 | AB91: 1 | AC91: =K91/'Assumptions'!$B$6 -> 2 | AD91: 439
A92: 51 | B92: Boundary | D92: 2026 | E92: yes | F92: 6 | G92: 12 | H92: 24 | I92: 10 | J92: 34 | K92: 24 | L92: 15 | M92: 119 | N92: 234 | O92: 173 | P92: 810 | Q92: 1217 | R92: 5.1 | S92: =IF(N92=0,"",ROUND(100*(G92+'Assumptions'!$B$3*AB92+'Assumptions'!$B$4*AC92)/N92,1)) -> 10.7 | T92: 19.7 | U92: 13.9 | V92: =IF(O92=0,"",ROUND(100*(H92+I92+'Assumptions'!$B$5*AB92+'Assumptions'!$B$7*AC92)/O92,1)) -> 34.1 | W92: 4.2 | X92: 3.2 | Y92: 9.8 | Z92: =IF(AD92=0,"",ROUND(100*L92/AD92,1)) -> 3 | AA92: 19.7 | AB92: 2 | AC92: =K92/'Assumptions'!$B$6 -> 3 | AD92: 502
A93: 52 | B93: Prince Rupert | D93: 2018 | E93: yes | F93: 25 | G93: 40 | H93: 49 | I93: 80 | J93: 105 | K93: 24 | L93: 109 | M93: 407 | N93: 506 | O93: 321 | P93: 1377 | Q93: 2204 | R93: 7.9 | S93: =IF(N93=0,"",ROUND(100*(G93+'Assumptions'!$B$3*AB93+'Assumptions'!$B$4*AC93)/N93,1)) -> 15.6 | T93: 40.2 | U93: 15.3 | V93: =IF(O93=0,"",ROUND(100*(H93+I93+'Assumptions'!$B$5*AB93+'Assumptions'!$B$7*AC93)/O93,1)) -> 68.2 | W93: 7.6 | X93: 6 | Y93: 18.5 | Z93: =IF(AD93=0,"",ROUND(100*L93/AD93,1)) -> 11.1 | AA93: 40.2 | AB93: 15 | AC93: =K93/'Assumptions'!$B$6 -> 3 | AD93: 986
A94: 52 | B94: Prince Rupert | D94: 2020 | E94: yes | F94: 24 | G94: 28 | H94: 49 | I94: 80 | J94: 97 | K94: 16 | L94: 115 | M94: 385 | N94: 469 | O94: 332 | P94: 1355 | Q94: 2156 | R94: 6 | S94: =IF(N94=0,"",ROUND(100*(G94+'Assumptions'!$B$3*AB94+'Assumptions'!$B$4*AC94)/N94,1)) -> 14.1 | T94: 38.9 | U94: 14.8 | V94: =IF(O94=0,"",ROUND(100*(H94+I94+'Assumptions'!$B$5*AB94+'Assumptions'!$B$7*AC94)/O94,1)) -> 66 | W94: 7.2 | X94: 6.1 | Y94: 17.9 | Z94: =IF(AD94=0,"",ROUND(100*L94/AD94,1)) -> 12.1 | AA94: 38.9 | AB94: 16 | AC94: =K94/'Assumptions'!$B$6 -> 2 | AD94: 953
A95: 52 | B95: Prince Rupert | D95: 2026 | E95: yes | F95: 24 | G95: 28 | H95: 53 | I95: 60 | J95: 152 | K95: 8 | L95: 106 | M95: 407 | N95: 444 | O95: 241 | P95: 1170 | Q95: 1855 | R95: 6.3 | S95: =IF(N95=0,"",ROUND(100*(G95+'Assumptions'!$B$3*AB95+'Assumptions'!$B$4*AC95)/N95,1)) -> 13.7 | T95: 46.9 | U95: 22 | V95: =IF(O95=0,"",ROUND(100*(H95+I95+'Assumptions'!$B$5*AB95+'Assumptions'!$B$7*AC95)/O95,1)) -> 80.1 | W95: 13 | X95: 6.1 | Y95: 21.9 | Z95: =IF(AD95=0,"",ROUND(100*L95/AD95,1)) -> 12.9 | AA95: 46.9 | AB95: 15 | AC95: =K95/'Assumptions'!$B$6 -> 1 | AD95: 823
A96: 53 | B96: Okanagan Similkameen | D96: 2018 | E96: yes | F96: 14 | G96: 32 | H96: 145 | I96: 87 | J96: 70 | K96: 8 | L96: 28 | M96: 370 | N96: 522 | O96: 358 | P96: 1479 | Q96: 2359 | R96: 6.1 | S96: =IF(N96=0,"",ROUND(100*(G96+'Assumptions'!$B$3*AB96+'Assumptions'!$B$4*AC96)/N96,1)) -> 8.2 | T96: 64.8 | U96: 40.5 | V96: =IF(O96=0,"",ROUND(100*(H96+I96+'Assumptions'!$B$5*AB96+'Assumptions'!$B$7*AC96)/O96,1)) -> 71.8 | W96: 4.7 | X96: 1.5 | Y96: 15.7 | Z96: =IF(AD96=0,"",ROUND(100*L96/AD96,1)) -> 2.6 | AA96: 64.8 | AB96: 4 | AC96: =K96/'Assumptions'!$B$6 -> 1 | AD96: 1064
A97: 53 | B97: Okanagan Similkameen | D97: 2020 | E97: yes | F97: 16 | G97: 44 | H97: 145 | I97: 87 | J97: 158 | K97: 8 | L97: 28 | M97: 470 | N97: 484 | O97: 375 | P97: 1533 | Q97: 2392 | R97: 9.1 | S97: =IF(N97=0,"",ROUND(100*(G97+'Assumptions'!$B$3*AB97+'Assumptions'!$B$4*AC97)/N97,1)) -> 11.4 | T97: 61.9 | U97: 38.7 | V97: =IF(O97=0,"",ROUND(100*(H97+I97+'Assumptions'!$B$5*AB97+'Assumptions'!$B$7*AC97)/O97,1)) -> 68.5 | W97: 10.3 | X97: 1.5 | Y97: 19.6 | Z97: =IF(AD97=0,"",ROUND(100*L97/AD97,1)) -> 2.7 | AA97: 61.9 | AB97: 4 | AC97: =K97/'Assumptions'!$B$6 -> 1 | AD97: 1049
A98: 53 | B98: Okanagan Similkameen | D98: 2026 | E98: yes | F98: 27 | G98: 76 | H98: 217 | I98: 71 | J98: 203 | K98: 32 | L98: 58 | M98: 657 | N98: 380 | O98: 301 | P98: 1493 | Q98: 2174 | R98: 20 | S98: =IF(N98=0,"",ROUND(100*(G98+'Assumptions'!$B$3*AB98+'Assumptions'!$B$4*AC98)/N98,1)) -> 27.4 | T98: 95.7 | U98: 72.1 | V98: =IF(O98=0,"",ROUND(100*(H98+I98+'Assumptions'!$B$5*AB98+'Assumptions'!$B$7*AC98)/O98,1)) -> 115.6 | W98: 13.6 | X98: 4.1 | Y98: 30.2 | Z98: =IF(AD98=0,"",ROUND(100*L98/AD98,1)) -> 6.9 | AA98: 95.7 | AB98: 8 | AC98: =K98/'Assumptions'!$B$6 -> 4 | AD98: 839
A99: 54 | B99: Bulkley Valley | D99: 2018 | E99: yes | F99: 22 | G99: 16 | H99: 131 | I99: 70 | J99: 68 | K99: 39 | L99: 73 | M99: 397 | N99: 613 | O99: 412 | P99: 1762 | Q99: 2787 | R99: 2.6 | S99: =IF(N99=0,"",ROUND(100*(G99+'Assumptions'!$B$3*AB99+'Assumptions'!$B$4*AC99)/N99,1)) -> 8.3 | T99: 48.8 | U99: 31.8 | V99: =IF(O99=0,"",ROUND(100*(H99+I99+'Assumptions'!$B$5*AB99+'Assumptions'!$B$7*AC99)/O99,1)) -> 66.8 | W99: 3.9 | X99: 4 | Y99: 14.2 | Z99: =IF(AD99=0,"",ROUND(100*L99/AD99,1)) -> 5.9 | AA99: 48.8 | AB99: 10 | AC99: =K99/'Assumptions'!$B$6 -> 4.875 | AD99: 1237
A100: 54 | B100: Bulkley Valley | D100: 2020 | E100: yes | F100: 18 | G100: 54 | H100: 150 | I100: 70 | J100: 82 | K100: 24 | L100: 65 | M100: 445 | N100: 624 | O100: 437 | P100: 1756 | Q100: 2817 | R100: 8.7 | S100: =IF(N100=0,"",ROUND(100*(G100+'Assumptions'!$B$3*AB100+'Assumptions'!$B$4*AC100)/N100,1)) -> 13 | T100: 50.3 | U100: 34.3 | V100: =IF(O100=0,"",ROUND(100*(H100+I100+'Assumptions'!$B$5*AB100+'Assumptions'!$B$7*AC100)/O100,1)) -> 64.1 | W100: 4.7 | X100: 3.2 | Y100: 15.8 | Z100: =IF(AD100=0,"",ROUND(100*L100/AD100,1)) -> 5.1 | AA100: 50.3 | AB100: 9 | AC100: =K100/'Assumptions'!$B$6 -> 3 | AD100: 1263
A101: 54 | B101: Bulkley Valley | D101: 2026 | E101: yes | F101: 20 | G101: 48 | H101: 162 | I101: 94 | J101: 163 | K101: 32 | L101: 45 | M101: 544 | N101: 551 | O101: 363 | P101: 1696 | Q101: 2610 | R101: 8.7 | S101: =IF(N101=0,"",ROUND(100*(G101+'Assumptions'!$B$3*AB101+'Assumptions'!$B$4*AC101)/N101,1)) -> 13.1 | T101: 70.5 | U101: 44.6 | V101: =IF(O101=0,"",ROUND(100*(H101+I101+'Assumptions'!$B$5*AB101+'Assumptions'!$B$7*AC101)/O101,1)) -> 84.3 | W101: 9.6 | X101: 3 | Y101: 20.8 | Z101: =IF(AD101=0,"",ROUND(100*L101/AD101,1)) -> 4.1 | AA101: 70.5 | AB101: 6 | AC101: =K101/'Assumptions'!$B$6 -> 4 | AD101: 1108
... A104: 57 | B104: Prince George | D104: 2026 | E104: yes | F104: 170 | G104: 403 | H104: 1014 | I104: 352 | J104: 1087 | K104: 142 | L104: 618 | M104: 3616 | N104: 2845 | O104: 1828 | P104: 8857 | Q104: 13530 | R104: 14.2 | S104: =IF(N104=0,"",ROUND(100*(G104+'Assumptions'!$B$3*AB104+'Assumptions'!$B$4*AC104)/N104,1)) -> 22 | T104: 74.7 | U104: 55.5 | V104: =IF(O104=0,"",ROUND(100*(H104+I104+'Assumptions'!$B$5*AB104+'Assumptions'!$B$7*AC104)/O104,1)) -> 102.8 | W104: 12.3 | X104: 5.6 | Y104: 26.7 | Z104: =IF(AD104=0,"",ROUND(100*L104/AD104,1)) -> 11 | AA104: 74.7 | AB104: 85 | AC104: =K104/'Assumptions'!$B$6 -> 17.75 | AD104: 5616
A105: 58 | B105: Nicola-Similkameen | C105: Nicola - Similkameen | D105: 2018 | E105: yes | F105: 14 | G105: 34 | H105: 68 | I105: 73 | J105: 38 | K105: 32 | L105: 45 | M105: 290 | N105: 382 | O105: 283 | P105: 1283 | Q105: 1948 | R105: 8.9 | S105: =IF(N105=0,"",ROUND(100*(G105+'Assumptions'!$B$3*AB105+'Assumptions'!$B$4*AC105)/N105,1)) -> 15.2 | T105: 49.8 | U105: 24 | V105: =IF(O105=0,"",ROUND(100*(H105+I105+'Assumptions'!$B$5*AB105+'Assumptions'!$B$7*AC105)/O105,1)) -> 67.5 | W105: 3 | X105: 4 | Y105: 14.9 | Z105: =IF(AD105=0,"",ROUND(100*L105/AD105,1)) -> 5.5 | AA105: 49.8 | AB105: 6 | AC105: =K105/'Assumptions'!$B$6 -> 4 | AD105: 816
A106: 58 | B106: Nicola-Similkameen | C106: Nicola - Similkameen | D106: 2020 | E106: yes | F106: 12 | G106: 34 | H106: 68 | I106: 73 | J106: 38 | K106: 32 | L106: 29 | M106: 274 | N106: 372 | O106: 276 | P106: 1269 | Q106: 1917 | R106: 9.1 | S106: =IF(N106=0,"",ROUND(100*(G106+'Assumptions'!$B$3*AB106+'Assumptions'!$B$4*AC106)/N106,1)) -> 14.5 | T106: 51.1 | U106: 24.6 | V106: =IF(O106=0,"",ROUND(100*(H106+I106+'Assumptions'!$B$5*AB106+'Assumptions'!$B$7*AC106)/O106,1)) -> 65.6 | W106: 3 | X106: 3.2 | Y106: 14.3 | Z106: =IF(AD106=0,"",ROUND(100*L106/AD106,1)) -> 3.6 | AA106: 51.1 | AB106: 4 | AC106: =K106/'Assumptions'!$B$6 -> 4 | AD106: 796
A107: 58 | B107: Nicola-Similkameen | C107: Nicola - Similkameen | D107: 2026 | E107: yes | F107: 9 | G107: 68 | H107: 102 | I107: 58 | J107: 104 | K107: 16 | L107: 22 | M107: 370 | N107: 320 | O107: 230 | P107: 1085 | Q107: 1635 | R107: 21.2 | S107: =IF(N107=0,"",ROUND(100*(G107+'Assumptions'!$B$3*AB107+'Assumptions'!$B$4*AC107)/N107,1)) -> 25 | T107: 69.6 | U107: 44.3 | V107: =IF(O107=0,"",ROUND(100*(H107+I107+'Assumptions'!$B$5*AB107+'Assumptions'!$B$7*AC107)/O107,1)) -> 80.4 | W107: 9.6 | X107: 2.3 | Y107: 22.6 | Z107: =IF(AD107=0,"",ROUND(100*L107/AD107,1)) -> 3.3 | AA107: 69.6 | AB107: 3 | AC107: =K107/'Assumptions'!$B$6 -> 2 | AD107: 668
A108: 59 | B108: Peace River South | D108: 2018 | E108: yes | F108: 17 | G108: 40 | H108: 81 | I108: 83 | J108: 120 | K108: 16 | L108: 49 | M108: 389 | N108: 1131 | O108: 751 | P108: 2773 | Q108: 4655 | R108: 3.5 | S108: =IF(N108=0,"",ROUND(100*(G108+'Assumptions'!$B$3*AB108+'Assumptions'!$B$4*AC108)/N108,1)) -> 5.3 | T108: 21.8 | U108: 10.8 | V108: =IF(O108=0,"",ROUND(100*(H108+I108+'Assumptions'!$B$5*AB108+'Assumptions'!$B$7*AC108)/O108,1)) -> 27.8 | W108: 4.3 | X108: 1.4 | Y108: 8.4 | Z108: =IF(AD108=0,"",ROUND(100*L108/AD108,1)) -> 2.2 | AA108: 21.8 | AB108: 7 | AC108: =K108/'Assumptions'!$B$6 -> 2 | AD108: 2253
A109: 59 | B109: Peace River South | D109: 2020 | E109: yes | F109: 21 | G109: 40 | H109: 122 | I109: 108 | J109: 154 | K109: 40 | L109: 69 | M109: 533 | N109: 1055 | O109: 750 | P109: 2727 | Q109: 4532 | R109: 3.8 | S109: =IF(N109=0,"",ROUND(100*(G109+'Assumptions'!$B$3*AB109+'Assumptions'!$B$4*AC109)/N109,1)) -> 7.1 | T109: 30.7 | U109: 16.3 | V109: =IF(O109=0,"",ROUND(100*(H109+I109+'Assumptions'!$B$5*AB109+'Assumptions'!$B$7*AC109)/O109,1)) -> 40.7 | W109: 5.6 | X109: 2.4 | Y109: 11.8 | Z109: =IF(AD109=0,"",ROUND(100*L109/AD109,1)) -> 3.2 | AA109: 30.7 | AB109: 10 | AC109: =K109/'Assumptions'!$B$6 -> 5 | AD109: 2137
A110: 59 | B110: Peace River South | D110: 2026 | E110: yes | F110: 29 | G110: 98 | H110: 272 | I110: 88 | J110: 245 | K110: 40 | L110: 56 | M110: 799 | N110: 954 | O110: 606 | P110: 2757 | Q110: 4317 | R110: 10.3 | S110: =IF(N110=0,"",ROUND(100*(G110+'Assumptions'!$B$3*AB110+'Assumptions'!$B$4*AC110)/N110,1)) -> 13.5 | T110: 59.4 | U110: 44.9 | V110: =IF(O110=0,"",ROUND(100*(H110+I110+'Assumptions'!$B$5*AB110+'Assumptions'!$B$7*AC110)/O110,1)) -> 70.1 | W110: 8.9 | X110: 2.2 | Y110: 18.5 | Z110: =IF(AD110=0,"",ROUND(100*L110/AD110,1)) -> 3 | AA110: 59.4 | AB110: 8 | AC110: =K110/'Assumptions'!$B$6 -> 5 | AD110: 1862
A111: 60 | B111: Peace River North | D111: 2018 | E111: yes | F111: 25 | G111: 36 | H111: 107 | I111: 120 | J111: 142 | K111: 16 | L111: 74 | M111: 495 | N111: 1812 | O111: 1146 | P111: 4441 | Q111: 7399 | R111: 2 | S111: =IF(N111=0,"",ROUND(100*(G111+'Assumptions'!$B$3*AB111+'Assumptions'!$B$4*AC111)/N111,1)) -> 3.4 | T111: 19.8 | U111: 9.3 | V111: =IF(O111=0,"",ROUND(100*(H111+I111+'Assumptions'!$B$5*AB111+'Assumptions'!$B$7*AC111)/O111,1)) -> 25 | W111: 3.2 | X111: 1.2 | Y111: 6.7 | Z111: =IF(AD111=0,"",ROUND(100*L111/AD111,1)) -> 2.1 | AA111: 19.8 | AB111: 10 | AC111: =K111/'Assumptions'!$B$6 -> 2 | AD111: 3553
A112: 60 | B112: Peace River North | D112: 2020 | E112: yes | F112: 28 | G112: 60 | H112: 168 | I112: 120 | J112: 126 | K112: 8 | L112: 88 | M112: 570 | N112: 1701 | O112: 1154 | P112: 4436 | Q112: 7291 | R112: 3.5 | S112: =IF(N112=0,"",ROUND(100*(G112+'Assumptions'!$B$3*AB112+'Assumptions'!$B$4*AC112)/N112,1)) -> 5.1 | T112: 25 | U112: 14.6 | V112: =IF(O112=0,"",ROUND(100*(H112+I112+'Assumptions'!$B$5*AB112+'Assumptions'!$B$7*AC112)/O112,1)) -> 30.6 | W112: 2.8 | X112: 1.3 | Y112: 7.8 | Z112: =IF(AD112=0,"",ROUND(100*L112/AD112,1)) -> 2.6 | AA112: 25 | AB112: 12 | AC112: =K112/'Assumptions'!$B$6 -> 1 | AD112: 3398
A113: 60 | B113: Peace River North | D113: 2026 | E113: yes | F113: 45 | G113: 112 | H113: 221 | I113: 170 | J113: 407 | K113: 77 | L113: 122 | M113: 1109 | N113: 1657 | O113: 1060 | P113: 4338 | Q113: 7055 | R113: 6.8 | S113: =IF(N113=0,"",ROUND(100*(G113+'Assumptions'!$B$3*AB113+'Assumptions'!$B$4*AC113)/N113,1)) -> 10.4 | T113: 36.9 | U113: 20.8 | V113: =IF(O113=0,"",ROUND(100*(H113+I113+'Assumptions'!$B$5*AB113+'Assumptions'!$B$7*AC113)/O113,1)) -> 49 | W113: 9.4 | X113: 2.8 | Y113: 15.7 | Z113: =IF(AD113=0,"",ROUND(100*L113/AD113,1)) -> 3.8 | AA113: 36.9 | AB113: 16 | AC113: =K113/'Assumptions'!$B$6 -> 9.625 | AD113: 3234
A114: 61 | B114: Greater Victoria | D114: 2018 | E114: yes | F114: 237 | G114: 650 | H114: 1848 | I114: 754 | J114: 2956 | K114: 88 | L114: 646 | M114: 6942 | N114: 5403 | O114: 3807 | P114: 14941 | Q114: 24151 | R114: 12 | S114: =IF(N114=0,"",ROUND(100*(G114+'Assumptions'!$B$3*AB114+'Assumptions'!$B$4*AC114)/N114,1)) -> 16 | T114: 68.3 | U114: 48.5 | V114: =IF(O114=0,"",ROUND(100*(H114+I114+'Assumptions'!$B$5*AB114+'Assumptions'!$B$7*AC114)/O114,1)) -> 81.6 | W114: 19.8 | X114: 3 | Y114: 28.7 | Z114: =IF(AD114=0,"",ROUND(100*L114/AD114,1)) -> 5.8 | AA114: 68.3 | AB114: 90 | AC114: =K114/'Assumptions'!$B$6 -> 11 | AD114: 11086
A115: 61 | B115: Greater Victoria | D115: 2020 | E115: yes | F115: 239 | G115: 718 | H115: 2009 | I115: 687 | J115: 3144 | K115: 112 | L115: 618 | M115: 7288 | N115: 5072 | O115: 3677 | P115: 15320 | Q115: 24069 | R115: 14.2 | S115: =IF(N115=0,"",ROUND(100*(G115+'Assumptions'!$B$3*AB115+'Assumptions'!$B$4*AC115)/N115,1)) -> 18.4 | T115: 73.3 | U115: 54.6 | V115: =IF(O115=0,"",ROUND(100*(H115+I115+'Assumptions'!$B$5*AB115+'Assumptions'!$B$7*AC115)/O115,1)) -> 86.9 | W115: 20.5 | X115: 3 | Y115: 30.3 | Z115: =IF(AD115=0,"",ROUND(100*L115/AD115,1)) -> 5.8 | AA115: 73.3 | AB115: 86 | AC115: =K115/'Assumptions'!$B$6 -> 14 | AD115: 10677
A116: 61 | B116: Greater Victoria | D116: 2026 | E116: yes | F116: 256 | G116: 1542 | H116: 3583 | I116: 457 | J116: 4190 | K116: 127 | L116: 434 | M116: 10333 | N116: 4304 | O116: 2859 | P116: 14787 | Q116: 21950 | R116: 35.8 | S116: =IF(N116=0,"",ROUND(100*(G116+'Assumptions'!$B$3*AB116+'Assumptions'!$B$4*AC116)/N116,1)) -> 39.7 | T116: 141.3 | U116: 125.3 | V116: =IF(O116=0,"",ROUND(100*(H116+I116+'Assumptions'!$B$5*AB116+'Assumptions'!$B$7*AC116)/O116,1)) -> 154.4 | W116: 28.3 | X116: 2.6 | Y116: 47.1 | Z116: =IF(AD116=0,"",ROUND(100*L116/AD116,1)) -> 5 | AA116: 141.3 | AB116: 59 | AC116: =K116/'Assumptions'!$B$6 -> 15.875 | AD116: 8739
A117: 62 | B117: Sooke | D117: 2018 | E117: yes | F117: 107 | G117: 268 | H117: 792 | I117: 271 | J117: 780 | K117: 24 | L117: 326 | M117: 2461 | N117: 2803 | O117: 2024 | P117: 7738 | Q117: 12565 | R117: 9.6 | S117: =IF(N117=0,"",ROUND(100*(G117+'Assumptions'!$B$3*AB117+'Assumptions'!$B$4*AC117)/N117,1)) -> 13.1 | T117: 52.5 | U117: 39.1 | V117: =IF(O117=0,"",ROUND(100*(H117+I117+'Assumptions'!$B$5*AB117+'Assumptions'!$B$7*AC117)/O117,1)) -> 64.4 | W117: 10.1 | X117: 2.8 | Y117: 19.6 | Z117: =IF(AD117=0,"",ROUND(100*L117/AD117,1)) -> 5.6 | AA117: 52.5 | AB117: 45 | AC117: =K117/'Assumptions'!$B$6 -> 3 | AD117: 5828
A118: 62 | B118: Sooke | D118: 2020 | E118: yes | F118: 116 | G118: 415 | H118: 1070 | I118: 218 | J118: 825 | K118: 8 | L118: 343 | M118: 2879 | N118: 2840 | O118: 2117 | P118: 8339 | Q118: 13296 | R118: 14.6 | S118: =IF(N118=0,"",ROUND(100*(G118+'Assumptions'!$B$3*AB118+'Assumptions'!$B$4*AC118)/N118,1)) -> 18 | T118: 60.8 | U118: 50.5 | V118: =IF(O118=0,"",ROUND(100*(H118+I118+'Assumptions'!$B$5*AB118+'Assumptions'!$B$7*AC118)/O118,1)) -> 72.2 | W118: 9.9 | X118: 2.6 | Y118: 21.7 | Z118: =IF(AD118=0,"",ROUND(100*L118/AD118,1)) -> 5.7 | AA118: 60.8 | AB118: 47 | AC118: =K118/'Assumptions'!$B$6 -> 1 | AD118: 6048
A119: 62 | B119: Sooke | D119: 2026 | E119: yes | F119: 136 | G119: 763 | H119: 1516 | I119: 150 | J119: 1235 | K119: 48 | L119: 393 | M119: 4105 | N119: 2991 | O119: 2055 | P119: 9787 | Q119: 14833 | R119: 25.5 | S119: =IF(N119=0,"",ROUND(100*(G119+'Assumptions'!$B$3*AB119+'Assumptions'!$B$4*AC119)/N119,1)) -> 29.7 | T119: 81.1 | U119: 73.8 | V119: =IF(O119=0,"",ROUND(100*(H119+I119+'Assumptions'!$B$5*AB119+'Assumptions'!$B$7*AC119)/O119,1)) -> 95.4 | W119: 12.6 | X119: 3 | Y119: 27.7 | Z119: =IF(AD119=0,"",ROUND(100*L119/AD119,1)) -> 6.4 | AA119: 81.1 | AB119: 53 | AC119: =K119/'Assumptions'!$B$6 -> 6 | AD119: 6148
... A134: 69 | B134: Qualicum | D134: 2026 | E134: yes | F134: 46 | G134: 92 | H134: 461 | I134: 256 | J134: 411 | K134: 64 | L134: 109 | M134: 1393 | N134: 671 | O134: 470 | P134: 2670 | Q134: 3811 | R134: 13.7 | S134: =IF(N134=0,"",ROUND(100*(G134+'Assumptions'!$B$3*AB134+'Assumptions'!$B$4*AC134)/N134,1)) -> 21.8 | T134: 152.6 | U134: 98.1 | V134: =IF(O134=0,"",ROUND(100*(H134+I134+'Assumptions'!$B$5*AB134+'Assumptions'!$B$7*AC134)/O134,1)) -> 177 | W134: 15.4 | X134: 4.5 | Y134: 36.6 | Z134: =IF(AD134=0,"",ROUND(100*L134/AD134,1)) -> 7.8 | AA134: 152.6 | AB134: 15 | AC134: =K134/'Assumptions'!$B$6 -> 8 | AD134: 1397
A135: 70 | B135: Pacific Rim | C135: Alberni | D135: 2018 | E135: yes | F135: 30 | G135: 80 | H135: 294 | I135: 182 | J135: 195 | K135: 72 | L135: 74 | M135: 897 | N135: 968 | O135: 677 | P135: 2739 | Q135: 4384 | R135: 8.3 | S135: =IF(N135=0,"",ROUND(100*(G135+'Assumptions'!$B$3*AB135+'Assumptions'!$B$4*AC135)/N135,1)) -> 13.1 | T135: 70.3 | U135: 43.4 | V135: =IF(O135=0,"",ROUND(100*(H135+I135+'Assumptions'!$B$5*AB135+'Assumptions'!$B$7*AC135)/O135,1)) -> 84.3 | W135: 7.1 | X135: 3.3 | Y135: 20.5 | Z135: =IF(AD135=0,"",ROUND(100*L135/AD135,1)) -> 3.8 | AA135: 70.3 | AB135: 10 | AC135: =K135/'Assumptions'!$B$6 -> 9 | AD135: 1972
A136: 70 | B136: Pacific Rim | C136: Alberni | D136: 2020 | E136: yes | F136: 28 | G136: 104 | H136: 312 | I136: 238 | J136: 205 | K136: 96 | L136: 51 | M136: 1006 | N136: 912 | O136: 703 | P136: 2820 | Q136: 4435 | R136: 11.4 | S136: =IF(N136=0,"",ROUND(100*(G136+'Assumptions'!$B$3*AB136+'Assumptions'!$B$4*AC136)/N136,1)) -> 16.9 | T136: 78.2 | U136: 44.4 | V136: =IF(O136=0,"",ROUND(100*(H136+I136+'Assumptions'!$B$5*AB136+'Assumptions'!$B$7*AC136)/O136,1)) -> 91.7 | W136: 7.3 | X136: 3.3 | Y136: 22.7 | Z136: =IF(AD136=0,"",ROUND(100*L136/AD136,1)) -> 2.6 | AA136: 78.2 | AB136: 7 | AC136: =K136/'Assumptions'!$B$6 -> 12 | AD136: 1982
A137: 70 | B137: Pacific Rim | C137: Alberni | D137: 2026 | E137: yes | F137: 38 | G137: 208 | H137: 446 | I137: 181 | J137: 433 | K137: 120 | L137: 75 | M137: 1463 | N137: 906 | O137: 585 | P137: 2766 | Q137: 4257 | R137: 23 | S137: =IF(N137=0,"",ROUND(100*(G137+'Assumptions'!$B$3*AB137+'Assumptions'!$B$4*AC137)/N137,1)) -> 30.1 | T137: 107.2 | U137: 76.2 | V137: =IF(O137=0,"",ROUND(100*(H137+I137+'Assumptions'!$B$5*AB137+'Assumptions'!$B$7*AC137)/O137,1)) -> 128.5 | W137: 15.7 | X137: 4.6 | Y137: 34.4 | Z137: =IF(AD137=0,"",ROUND(100*L137/AD137,1)) -> 4.2 | AA137: 107.2 | AB137: 10 | AC137: =K137/'Assumptions'!$B$6 -> 15 | AD137: 1786
A138: 71 | B138: Comox Valley | D138: 2018 | E138: yes | F138: 67 | G138: 112 | H138: 432 | I138: 209 | J138: 450 | K138: 160 | L138: 186 | M138: 1549 | N138: 1730 | O138: 1262 | P138: 5408 | Q138: 8400 | R138: 6.5 | S138: =IF(N138=0,"",ROUND(100*(G138+'Assumptions'!$B$3*AB138+'Assumptions'!$B$4*AC138)/N138,1)) -> 12.9 | T138: 50.8 | U138: 34.2 | V138: =IF(O138=0,"",ROUND(100*(H138+I138+'Assumptions'!$B$5*AB138+'Assumptions'!$B$7*AC138)/O138,1)) -> 69 | W138: 8.3 | X138: 4.1 | Y138: 18.4 | Z138: =IF(AD138=0,"",ROUND(100*L138/AD138,1)) -> 5.1 | AA138: 50.8 | AB138: 26 | AC138: =K138/'Assumptions'!$B$6 -> 20 | AD138: 3639
A139: 71 | B139: Comox Valley | D139: 2020 | E139: yes | F139: 78 | G139: 102 | H139: 534 | I139: 274 | J139: 516 | K139: 160 | L139: 243 | M139: 1829 | N139: 1664 | O139: 1317 | P139: 5725 | Q139: 8706 | R139: 6.1 | S139: =IF(N139=0,"",ROUND(100*(G139+'Assumptions'!$B$3*AB139+'Assumptions'!$B$4*AC139)/N139,1)) -> 13.8 | T139: 61.4 | U139: 40.5 | V139: =IF(O139=0,"",ROUND(100*(H139+I139+'Assumptions'!$B$5*AB139+'Assumptions'!$B$7*AC139)/O139,1)) -> 81.9 | W139: 9 | X139: 4.6 | Y139: 21 | Z139: =IF(AD139=0,"",ROUND(100*L139/AD139,1)) -> 6.6 | AA139: 61.4 | AB139: 34 | AC139: =K139/'Assumptions'!$B$6 -> 20 | AD139: 3655
A140: 71 | B140: Comox Valley | D140: 2026 | E140: yes | F140: 91 | G140: 276 | H140: 823 | I140: 250 | J140: 713 | K140: 88 | L140: 271 | M140: 2421 | N140: 1599 | O140: 1064 | P140: 5551 | Q140: 8214 | R140: 17.3 | S140: =IF(N140=0,"",ROUND(100*(G140+'Assumptions'!$B$3*AB140+'Assumptions'!$B$4*AC140)/N140,1)) -> 24 | T140: 100.8 | U140: 77.3 | V140: =IF(O140=0,"",ROUND(100*(H140+I140+'Assumptions'!$B$5*AB140+'Assumptions'!$B$7*AC140)/O140,1)) -> 123.4 | W140: 12.8 | X140: 4.4 | Y140: 29.5 | Z140: =IF(AD140=0,"",ROUND(100*L140/AD140,1)) -> 8.5 | AA140: 100.8 | AB140: 37 | AC140: =K140/'Assumptions'!$B$6 -> 11 | AD140: 3195
A141: 72 | B141: Campbell River | D141: 2018 | E141: yes | F141: 40 | G141: 84 | H141: 503 | I141: 237 | J141: 466 | K141: 72 | L141: 124 | M141: 1486 | N141: 1206 | O141: 878 | P141: 3606 | Q141: 5690 | R141: 7 | S141: =IF(N141=0,"",ROUND(100*(G141+'Assumptions'!$B$3*AB141+'Assumptions'!$B$4*AC141)/N141,1)) -> 12 | T141: 84.3 | U141: 57.3 | V141: =IF(O141=0,"",ROUND(100*(H141+I141+'Assumptions'!$B$5*AB141+'Assumptions'!$B$7*AC141)/O141,1)) -> 99.1 | W141: 12.9 | X141: 3.4 | Y141: 26.1 | Z141: =IF(AD141=0,"",ROUND(100*L141/AD141,1)) -> 4.9 | AA141: 84.3 | AB141: 17 | AC141: =K141/'Assumptions'!$B$6 -> 9 | AD141: 2521
A142: 72 | B142: Campbell River | D142: 2020 | E142: yes | F142: 49 | G142: 96 | H142: 601 | I142: 319 | J142: 498 | K142: 88 | L142: 189 | M142: 1791 | N142: 1102 | O142: 875 | P142: 3720 | Q142: 5697 | R142: 8.7 | S142: =IF(N142=0,"",ROUND(100*(G142+'Assumptions'!$B$3*AB142+'Assumptions'!$B$4*AC142)/N142,1)) -> 16.4 | T142: 105.1 | U142: 68.7 | V142: =IF(O142=0,"",ROUND(100*(H142+I142+'Assumptions'!$B$5*AB142+'Assumptions'!$B$7*AC142)/O142,1)) -> 126.3 | W142: 13.4 | X142: 4.9 | Y142: 31.4 | Z142: =IF(AD142=0,"",ROUND(100*L142/AD142,1)) -> 7.8 | AA142: 105.1 | AB142: 26 | AC142: =K142/'Assumptions'!$B$6 -> 11 | AD142: 2420
A143: 72 | B143: Campbell River | D143: 2026 | E143: yes | F143: 60 | G143: 96 | H143: 524 | I143: 108 | J143: 700 | K143: 94 | L143: 183 | M143: 1705 | N143: 970 | O143: 657 | P143: 3426 | Q143: 5053 | R143: 9.9 | S143: =IF(N143=0,"",ROUND(100*(G143+'Assumptions'!$B$3*AB143+'Assumptions'!$B$4*AC143)/N143,1)) -> 18.7 | T143: 96.2 | U143: 79.8 | V143: =IF(O143=0,"",ROUND(100*(H143+I143+'Assumptions'!$B$5*AB143+'Assumptions'!$B$7*AC143)/O143,1)) -> 124.2 | W143: 20.4 | X143: 5.5 | Y143: 33.7 | Z143: =IF(AD143=0,"",ROUND(100*L143/AD143,1)) -> 9.3 | AA143: 96.2 | AB143: 25 | AC143: =K143/'Assumptions'!$B$6 -> 11.75 | AD143: 1966
A144: 73 | B144: Kamloops-Thompson | C144: Kamloops/Thompson | D144: 2018 | E144: yes | F144: 111 | G144: 396 | H144: 913 | I144: 546 | J144: 957 | K144: 88 | L144: 313 | M144: 3213 | N144: 3520 | O144: 2393 | P144: 9815 | Q144: 15728 | R144: 11.2 | S144: =IF(N144=0,"",ROUND(100*(G144+'Assumptions'!$B$3*AB144+'Assumptions'!$B$4*AC144)/N144,1)) -> 14.6 | T144: 61 | U144: 38.2 | V144: =IF(O144=0,"",ROUND(100*(H144+I144+'Assumptions'!$B$5*AB144+'Assumptions'!$B$7*AC144)/O144,1)) -> 72 | W144: 9.8 | X144: 2.5 | Y144: 20.4 | Z144: =IF(AD144=0,"",ROUND(100*L144/AD144,1)) -> 4.4 | AA144: 61 | AB144: 42 | AC144: =K144/'Assumptions'!$B$6 -> 11 | AD144: 7111
A145: 73 | B145: Kamloops-Thompson | C145: Kamloops/Thompson | D145: 2020 | E145: yes | F145: 125 | G145: 508 | H145: 1097 | I145: 561 | J145: 1075 | K145: 152 | L145: 365 | M145: 3758 | N145: 3391 | O145: 2509 | P145: 10321 | Q145: 16221 | R145: 15 | S145: =IF(N145=0,"",ROUND(100*(G145+'Assumptions'!$B$3*AB145+'Assumptions'!$B$4*AC145)/N145,1)) -> 19.6 | T145: 66.1 | U145: 43.7 | V145: =IF(O145=0,"",ROUND(100*(H145+I145+'Assumptions'!$B$5*AB145+'Assumptions'!$B$7*AC145)/O145,1)) -> 79.6 | W145: 10.4 | X145: 3.2 | Y145: 23.2 | Z145: =IF(AD145=0,"",ROUND(100*L145/AD145,1)) -> 5.1 | AA145: 66.1 | AB145: 49 | AC145: =K145/'Assumptions'!$B$6 -> 19 | AD145: 7190
A146: 73 | B146: Kamloops-Thompson | C146: Kamloops/Thompson | D146: 2026 | E146: yes | F146: 148 | G146: 846 | H146: 1831 | I146: 456 | J146: 1519 | K146: 183 | L146: 300 | M146: 5135 | N146: 2998 | O146: 2183 | P146: 10414 | Q146: 15595 | R146: 28.2 | S146: =IF(N146=0,"",ROUND(100*(G146+'Assumptions'!$B$3*AB146+'Assumptions'!$B$4*AC146)/N146,1)) -> 33.2 | T146: 104.8 | U146: 83.9 | V146: =IF(O146=0,"",ROUND(100*(H146+I146+'Assumptions'!$B$5*AB146+'Assumptions'!$B$7*AC146)/O146,1)) -> 119.2 | W146: 14.6 | X146: 3.1 | Y146: 32.9 | Z146: =IF(AD146=0,"",ROUND(100*L146/AD146,1)) -> 4.7 | AA146: 104.8 | AB146: 40 | AC146: =K146/'Assumptions'!$B$6 -> 22.875 | AD146: 6359
A147: 74 | B147: Gold Trail | D147: 2018 | E147: yes | F147: 8 | G147: 32 | H147: 60 | I147: 40 | J147: 52 | K147: 16 | L147: 7 | M147: 207 | N147: 273 | O147: 186 | P147: 834 | Q147: 1293 | R147: 11.7 | S147: =IF(N147=0,"",ROUND(100*(G147+'Assumptions'!$B$3*AB147+'Assumptions'!$B$4*AC147)/N147,1)) -> 14.7 | T147: 53.8 | U147: 32.3 | V147: =IF(O147=0,"",ROUND(100*(H147+I147+'Assumptions'!$B$5*AB147+'Assumptions'!$B$7*AC147)/O147,1)) -> 61.8 | W147: 6.2 | X147: 1.8 | Y147: 16 | Z147: =IF(AD147=0,"",ROUND(100*L147/AD147,1)) -> 1.3 | AA147: 53.8 | AB147: 1 | AC147: =K147/'Assumptions'!$B$6 -> 2 | AD147: 558
A148: 74 | B148: Gold Trail | D148: 2020 | E148: yes | F148: 8 | G148: 32 | H148: 64 | I148: 40 | J148: 38 | K148: 16 | L148: 7 | M148: 197 | N148: 236 | O148: 189 | P148: 842 | Q148: 1267 | R148: 13.6 | S148: =IF(N148=0,"",ROUND(100*(G148+'Assumptions'!$B$3*AB148+'Assumptions'!$B$4*AC148)/N148,1)) -> 16.9 | T148: 55 | U148: 33.9 | V148: =IF(O148=0,"",ROUND(100*(H148+I148+'Assumptions'!$B$5*AB148+'Assumptions'!$B$7*AC148)/O148,1)) -> 63 | W148: 4.5 | X148: 1.8 | Y148: 15.5 | Z148: =IF(AD148=0,"",ROUND(100*L148/AD148,1)) -> 1.3 | AA148: 55 | AB148: 1 | AC148: =K148/'Assumptions'!$B$6 -> 2 | AD148: 523
A149: 74 | B149: Gold Trail | D149: 2026 | E149: yes | F149: 12 | G149: 8 | H149: 58 | I149: 60 | J149: 80 | K149: 40 | L149: 7 | M149: 253 | N149: 192 | O149: 151 | P149: 711 | Q149: 1054 | R149: 4.2 | S149: =IF(N149=0,"",ROUND(100*(G149+'Assumptions'!$B$3*AB149+'Assumptions'!$B$4*AC149)/N149,1)) -> 13 | T149: 78.1 | U149: 38.4 | V149: =IF(O149=0,"",ROUND(100*(H149+I149+'Assumptions'!$B$5*AB149+'Assumptions'!$B$7*AC149)/O149,1)) -> 98 | W149: 11.3 | X149: 4.5 | Y149: 24 | Z149: =IF(AD149=0,"",ROUND(100*L149/AD149,1)) -> 1.6 | AA149: 78.1 | AB149: 1 | AC149: =K149/'Assumptions'!$B$6 -> 5 | AD149: 426
A150: 75 | B150: Mission | D150: 2018 | E150: yes | F150: 41 | G150: 111 | H150: 222 | I150: 150 | J150: 329 | K150: 24 | L150: 109 | M150: 945 | N150: 1586 | O150: 1110 | P150: 4596 | Q150: 7292 | R150: 7 | S150: =IF(N150=0,"",ROUND(100*(G150+'Assumptions'!$B$3*AB150+'Assumptions'!$B$4*AC150)/N150,1)) -> 9.5 | T150: 33.5 | U150: 20 | V150: =IF(O150=0,"",ROUND(100*(H150+I150+'Assumptions'!$B$5*AB150+'Assumptions'!$B$7*AC150)/O150,1)) -> 41.6 | W150: 7.2 | X150: 1.8 | Y150: 13 | Z150: =IF(AD150=0,"",ROUND(100*L150/AD150,1)) -> 3.3 | AA150: 33.5 | AB150: 15 | AC150: =K150/'Assumptions'!$B$6 -> 3 | AD150: 3268
A151: 75 | B151: Mission | D151: 2020 | E151: yes | F151: 47 | G151: 164 | H151: 289 | I151: 173 | J151: 388 | K151: 16 | L151: 132 | M151: 1162 | N151: 1574 | O151: 1138 | P151: 4682 | Q151: 7394 | R151: 10.4 | S151: =IF(N151=0,"",ROUND(100*(G151+'Assumptions'!$B$3*AB151+'Assumptions'!$B$4*AC151)/N151,1)) -> 13.1 | T151: 40.6 | U151: 25.4 | V151: =IF(O151=0,"",ROUND(100*(H151+I151+'Assumptions'!$B$5*AB151+'Assumptions'!$B$7*AC151)/O151,1)) -> 49.4 | W151: 8.3 | X151: 2 | Y151: 15.7 | Z151: =IF(AD151=0,"",ROUND(100*L151/AD151,1)) -> 4 | AA151: 40.6 | AB151: 18 | AC151: =K151/'Assumptions'!$B$6 -> 2 | AD151: 3278
A152: 75 | B152: Mission | D152: 2026 | E152: yes | F152: 57 | G152: 388 | H152: 742 | I152: 138 | J152: 799 | K152: 39 | L152: 172 | M152: 2278 | N152: 1512 | O152: 1022 | P152: 4962 | Q152: 7496 | R152: 25.7 | S152: =IF(N152=0,"",ROUND(100*(G152+'Assumptions'!$B$3*AB152+'Assumptions'!$B$4*AC152)/N152,1)) -> 29.7 | T152: 86.1 | U152: 72.6 | V152: =IF(O152=0,"",ROUND(100*(H152+I152+'Assumptions'!$B$5*AB152+'Assumptions'!$B$7*AC152)/O152,1)) -> 99.7 | W152: 16.1 | X152: 2.8 | Y152: 30.4 | Z152: =IF(AD152=0,"",ROUND(100*L152/AD152,1)) -> 5.6 | AA152: 86.1 | AB152: 23 | AC152: =K152/'Assumptions'!$B$6 -> 4.875 | AD152: 3099
A153: 78 | B153: Fraser-Cascade | C153: Fraser - Cascade | D153: 2018 | E153: yes | F153: 9 | G153: 60 | H153: 109 | I153: 100 | J153: 178 | K153: 0 | L153: 7 | M153: 454 | N153: 507 | O153: 339 | P153: 1456 | Q153: 2302 | R153: 11.8 | S153: =IF(N153=0,"",ROUND(100*(G153+'Assumptions'!$B$3*AB153+'Assumptions'!$B$4*AC153)/N153,1)) -> 12.2 | T153: 61.7 | U153: 32.2 | V153: =IF(O153=0,"",ROUND(100*(H153+I153+'Assumptions'!$B$5*AB153+'Assumptions'!$B$7*AC153)/O153,1)) -> 63.1 | W153: 12.2 | X153: 0.3 | Y153: 19.7 | Z153: =IF(AD153=0,"",ROUND(100*L153/AD153,1)) -> 0.7 | AA153: 61.7 | AB153: 1 | AC153: =K153/'Assumptions'!$B$6 -> 0 | AD153: 1014
A154: 78 | B154: Fraser-Cascade | C154: Fraser - Cascade | D154: 2020 | E154: yes | F154: 12 | G154: 84 | H154: 145 | I154: 110 | J154: 193 | K154: 0 | L154: 14 | M154: 546 | N154: 526 | O154: 360 | P154: 1457 | Q154: 2343 | R154: 16 | S154: =IF(N154=0,"",ROUND(100*(G154+'Assumptions'!$B$3*AB154+'Assumptions'!$B$4*AC154)/N154,1)) -> 16.7 | T154: 70.8 | U154: 40.3 | V154: =IF(O154=0,"",ROUND(100*(H154+I154+'Assumptions'!$B$5*AB154+'Assumptions'!$B$7*AC154)/O154,1)) -> 73.6 | W154: 13.2 | X154: 0.6 | Y154: 23.3 | Z154: =IF(AD154=0,"",ROUND(100*L154/AD154,1)) -> 1.3 | AA154: 70.8 | AB154: 2 | AC154: =K154/'Assumptions'!$B$6 -> 0 | AD154: 1061
A155: 78 | B155: Fraser-Cascade | C155: Fraser - Cascade | D155: 2026 | E155: yes | F155: 16 | G155: 60 | H155: 216 | I155: 50 | J155: 267 | K155: 0 | L155: 22 | M155: 615 | N155: 509 | O155: 349 | P155: 1528 | Q155: 2386 | R155: 11.8 | S155: =IF(N155=0,"",ROUND(100*(G155+'Assumptions'!$B$3*AB155+'Assumptions'!$B$4*AC155)/N155,1)) -> 13 | T155: 76.2 | U155: 61.9 | V155: =IF(O155=0,"",ROUND(100*(H155+I155+'Assumptions'!$B$5*AB155+'Assumptions'!$B$7*AC155)/O155,1)) -> 80.5 | W155: 17.5 | X155: 0.9 | Y155: 25.8 | Z155: =IF(AD155=0,"",ROUND(100*L155/AD155,1)) -> 2.1 | AA155: 76.2 | AB155: 3 | AC155: =K155/'Assumptions'!$B$6 -> 0 | AD155: 1045
A156: 79 | B156: Cowichan Valley | D156: 2018 | E156: yes | F156: 77 | G156: 159 | H156: 596 | I156: 330 | J156: 496 | K156: 64 | L156: 263 | M156: 1908 | N156: 1990 | O156: 1426 | P156: 6143 | Q156: 9559 | R156: 8 | S156: =IF(N156=0,"",ROUND(100*(G156+'Assumptions'!$B$3*AB156+'Assumptions'!$B$4*AC156)/N156,1)) -> 12.9 | T156: 64.9 | U156: 41.8 | V156: =IF(O156=0,"",ROUND(100*(H156+I156+'Assumptions'!$B$5*AB156+'Assumptions'!$B$7*AC156)/O156,1)) -> 80.7 | W156: 8.1 | X156: 3.4 | Y156: 20 | Z156: =IF(AD156=0,"",ROUND(100*L156/AD156,1)) -> 6.3 | AA156: 64.9 | AB156: 37 | AC156: =K156/'Assumptions'!$B$6 -> 8 | AD156: 4168
A157: 79 | B157: Cowichan Valley | D157: 2020 | E157: yes | F157: 74 | G157: 167 | H157: 675 | I157: 240 | J157: 499 | K157: 56 | L157: 239 | M157: 1876 | N157: 1864 | O157: 1437 | P157: 6265 | Q157: 9566 | R157: 9 | S157: =IF(N157=0,"",ROUND(100*(G157+'Assumptions'!$B$3*AB157+'Assumptions'!$B$4*AC157)/N157,1)) -> 13.6 | T157: 63.7 | U157: 47 | V157: =IF(O157=0,"",ROUND(100*(H157+I157+'Assumptions'!$B$5*AB157+'Assumptions'!$B$7*AC157)/O157,1)) -> 77.6 | W157: 8 | X157: 3.1 | Y157: 19.6 | Z157: =IF(AD157=0,"",ROUND(100*L157/AD157,1)) -> 5.9 | AA157: 63.7 | AB157: 33 | AC157: =K157/'Assumptions'!$B$6 -> 7 | AD157: 4040
A158: 79 | B158: Cowichan Valley | D158: 2026 | E158: yes | F158: 94 | G158: 278 | H158: 936 | I158: 148 | J158: 836 | K158: 48 | L158: 284 | M158: 2530 | N158: 1694 | O158: 1162 | P158: 5902 | Q158: 8758 | R158: 16.4 | S158: =IF(N158=0,"",ROUND(100*(G158+'Assumptions'!$B$3*AB158+'Assumptions'!$B$4*AC158)/N158,1)) -> 22.1 | T158: 93.3 | U158: 80.6 | V158: =IF(O158=0,"",ROUND(100*(H158+I158+'Assumptions'!$B$5*AB158+'Assumptions'!$B$7*AC158)/O158,1)) -> 112.7 | W158: 14.2 | X158: 3.8 | Y158: 28.9 | Z158: =IF(AD158=0,"",ROUND(100*L158/AD158,1)) -> 8.2 | AA158: 93.3 | AB158: 39 | AC158: =K158/'Assumptions'!$B$6 -> 6 | AD158: 3465
A159: 81 | B159: Fort Nelson | D159: 2018 | E159: yes | F159: 4 | G159: 0 | H159: 0 | I159: 20 | J159: 0 | K159: 16 | L159: 15 | M159: 51 | N159: 152 | O159: 110 | P159: 522 | Q159: 784 | R159: 0 | S159: =IF(N159=0,"",ROUND(100*(G159+'Assumptions'!$B$3*AB159+'Assumptions'!$B$4*AC159)/N159,1)) -> 6.6 | T159: 18.2 | U159: 0 | V159: =IF(O159=0,"",ROUND(100*(H159+I159+'Assumptions'!$B$5*AB159+'Assumptions'!$B$7*AC159)/O159,1)) -> 36.4 | W159: 0 | X159: 4 | Y159: 6.5 | Z159: =IF(AD159=0,"",ROUND(100*L159/AD159,1)) -> 4.6 | AA159: 18.2 | AB159: 2 | AC159: =K159/'Assumptions'!$B$6 -> 2 | AD159: 323
...

Sheet Assumptions
A1: How the mixed-age pools are split across age bands
A3: Family child care spaces assigned to children UNDER 3, per facility | B3: 2
A4: Multi-age spaces assigned to children UNDER 3, per licence | B4: 3
A5: Family child care spaces assigned to children AGED 3-4, per facility | B5: 5
A6: Children per multi-age licence (unless otherwise stated) | B6: 8
A7: Multi-age spaces assigned to children AGED 3-4, per licence | B7: 5
A9: Change any number in column B and columns S, V and Z on Sheet 1 recalculate.
A11: WHY THESE COLUMNS ARE NEEDED
B12: Family child care and group multi-age licences serve the whole 0-12 range under one licence, so the raw data cannot say how many of their spaces hold an infant and how many hold a four-year-old. Columns R, T, U and W therefore count only GROUP care of a named age type, and leave family and multi-age out entirely. That understates coverage in every band. Columns S, V and Z put the mixed-age capacity back in, on stated assumptions.
A14: WHAT THE ASSUMPTIONS IMPLY
B15: A family child care licence is for 7 children; 1,195 of the 1,344 licensed family facilities in the 2020 FOI hold exactly 7. Assigning 2 under-3 and 5 aged 3-4 uses the full licence and leaves nothing for school-age children. A multi-age licence is for 8 children; 558 of 649 multi-age facilities in the 2020 FOI hold exactly 8, and the 16s, 24s and 32s are facilities running two, three or four multi-age groups. Assigning 3 under-3 and 5 aged 3-4 likewise uses the whole licence. It is likely that some of the care available in Multi-age and Family care is being used for school aged children.
B16: Both splits therefore allocate 100% of family and multi-age capacity to children under five and none to school-age children. That is a deliberate choice and it is the conservative one for the argument being made: it maximises measured under-five coverage and leaves column W, school-age coverage, at its lowest defensible level. If some of that capacity does serve school-age children, under-five coverage is lower than columns S and V show and school-age coverage is higher than column W shows.
A18: WHERE THE INPUTS COME FROM
A19: Family child care facilities (column AB) | B19: Counted directly in the CCOF district series. Note that CCOF files in-home multi-age under family child care: 9,636 licensed family spaces plus 2,986 in-home multi-age in the 2020 FOI comes to 12,622, against CCOF's 12,672.
A20: Multi-age licences (column AC) | B20: Not published. Derived as multi-age spaces divided by 8, which counts licensed multi-age GROUPS rather than buildings - the right unit here, since a facility with 16 multi-age spaces runs two groups of eight.
A21: Child population 0-5 (column AD) | B21: BC Stats P.E.O.P.L.E., ages 0 to 5 inclusive - six single-year cohorts, not "under five". Estimates for 2018 and 2020, projection for 2026.
